BEGIN:VCALENDAR
VERSION:2.0
PRODID:-//Ocean County Artists&#039; Guild - ECPv6.15.13//NONSGML v1.0//EN
CALSCALE:GREGORIAN
METHOD:PUBLISH
X-WR-CALNAME:Ocean County Artists&#039; Guild
X-ORIGINAL-URL:https://www.ocartistsguild.org
X-WR-CALDESC:Events for Ocean County Artists&#039; Guild
REFRESH-INTERVAL;VALUE=DURATION:PT1H
X-Robots-Tag:noindex
X-PUBLISHED-TTL:PT1H
BEGIN:VTIMEZONE
TZID:America/New_York
BEGIN:DAYLIGHT
TZOFFSETFROM:-0500
TZOFFSETTO:-0400
TZNAME:EDT
DTSTART:20250309T070000
END:DAYLIGHT
BEGIN:STANDARD
TZOFFSETFROM:-0400
TZOFFSETTO:-0500
TZNAME:EST
DTSTART:20251102T060000
END:STANDARD
BEGIN:DAYLIGHT
TZOFFSETFROM:-0500
TZOFFSETTO:-0400
TZNAME:EDT
DTSTART:20260308T070000
END:DAYLIGHT
BEGIN:STANDARD
TZOFFSETFROM:-0400
TZOFFSETTO:-0500
TZNAME:EST
DTSTART:20261101T060000
END:STANDARD
BEGIN:DAYLIGHT
TZOFFSETFROM:-0500
TZOFFSETTO:-0400
TZNAME:EDT
DTSTART:20270314T070000
END:DAYLIGHT
BEGIN:STANDARD
TZOFFSETFROM:-0400
TZOFFSETTO:-0500
TZNAME:EST
DTSTART:20271107T060000
END:STANDARD
END:VTIMEZONE
BEGIN:VEVENT
DTSTART;TZID=America/New_York:20260424T083000
DTEND;TZID=America/New_York:20260424T093000
DTSTAMP:20260424T060524
CREATED:20260318T193743Z
LAST-MODIFIED:20260318T193743Z
UID:10005916-1777019400-1777023000@www.ocartistsguild.org
SUMMARY:Yoga Friday's
DESCRIPTION:Yoga Friday’s!  \n$10 for members per session \n$15 for non members per session
URL:https://www.ocartistsguild.org/event/yoga-fridays-14/
LOCATION:Ocean County Artists Guild\, 22 Chestnut Avenue\, Island Heights\, NJ\, 08732\, United States
CATEGORIES:Classes,Events
END:VEVENT
BEGIN:VEVENT
DTSTART;TZID=America/New_York:20260424T100000
DTEND;TZID=America/New_York:20260424T130000
DTSTAMP:20260424T060524
CREATED:20251210T194118Z
LAST-MODIFIED:20260414T175317Z
UID:10005717-1777024800-1777035600@www.ocartistsguild.org
SUMMARY:Joyful Art Collective
DESCRIPTION:Friday April 24\, 2025 \n10:00 AM – 1:00 PM \nThe Joyful Art Collective \nCreativity – Community – Connection \n \nThe Joyful Art Collective is a gathering space for people who want to reconnect with creativity\, unwind through art\, and bring more joy into their everyday lives. \nNo experience needed – just a willingness to explore\, express and enjoy the process \nLimited space.  15 people max \nWhat we offer: \nRelaxing art workshops \nCreative prompts and playful projects \nMindful moments and reflection \nA warm\, welcoming space to connect with others. \n$25 includes: \nAn oracle card \nLight refreshments \nAll materials \nA beautiful creative space \nAdditional donations are welcomed. \nLet Joy Lead the Way! \nsign-up/questions: \ncontact OCAG at – 732-270-3111 \ninfo@ocartistsguild.org \nor contact Leona at: \njoyfulartday@gmail.com
URL:https://www.ocartistsguild.org/event/joyful-art-collective-6/
LOCATION:Ocean County Artists Guild\, 22 Chestnut Avenue\, Island Heights\, NJ\, 08732\, United States
CATEGORIES:Classes,Events
END:VEVENT
BEGIN:VEVENT
DTSTART;TZID=America/New_York:20260424T170000
DTEND;TZID=America/New_York:20260424T183000
DTSTAMP:20260424T060524
CREATED:20250915T145942Z
LAST-MODIFIED:20260313T183513Z
UID:10005422-1777050000-1777055400@www.ocartistsguild.org
SUMMARY:Art Chat (Free Event) 4th Friday
DESCRIPTION:Members/non-members: Art Chat 2026 (Free Event)\nDate: Fourth Friday of the month\, (dates subject to change. Contact Moderator)\nTime: 5:00 PM- 6:30 PM; Duration: On Going\, I’m Interested\nOpen to Artists of all mediums. Let’s get together to share and talk about our art! Get connected to your local art community! Get feedback from your fellow artists and make new art friends! Let’s talk about what inspires us\, the trials and tribulations of being creative\, and other topics related to art making\, art business and art marketing too! Bring your work – a completed piece or a work in progress. Live in person with option to join the group remotely).\nContact the moderator\, Kim Cesaretti if you are interested in attending or have questions.\nMark your Calendars for these 2026 Monthly dates: 1/23\, 2/27\, 3/27\, 4/24\, 5/22\, 6/26\, 7/24\, 8/28\, 9/25\, 10/23\, 11/20 (dates subject to change)
URL:https://www.ocartistsguild.org/event/art-chat-free-event-4th-friday/2026-04-24/
LOCATION:Ocean County Artists Guild\, 22 Chestnut Avenue\, Island Heights\, NJ\, 08732\, United States
CATEGORIES:Classes,Events
END:VEVENT
END:VCALENDAR