BEGIN:VCALENDAR
VERSION:2.0
PRODID:-//Ocean County Artists&#039; Guild - ECPv6.15.13//NONSGML v1.0//EN
CALSCALE:GREGORIAN
METHOD:PUBLISH
X-WR-CALNAME:Ocean County Artists&#039; Guild
X-ORIGINAL-URL:https://www.ocartistsguild.org
X-WR-CALDESC:Events for Ocean County Artists&#039; Guild
REFRESH-INTERVAL;VALUE=DURATION:PT1H
X-Robots-Tag:noindex
X-PUBLISHED-TTL:PT1H
BEGIN:VTIMEZONE
TZID:America/New_York
BEGIN:DAYLIGHT
TZOFFSETFROM:-0500
TZOFFSETTO:-0400
TZNAME:EDT
DTSTART:20240310T070000
END:DAYLIGHT
BEGIN:STANDARD
TZOFFSETFROM:-0400
TZOFFSETTO:-0500
TZNAME:EST
DTSTART:20241103T060000
END:STANDARD
BEGIN:DAYLIGHT
TZOFFSETFROM:-0500
TZOFFSETTO:-0400
TZNAME:EDT
DTSTART:20250309T070000
END:DAYLIGHT
BEGIN:STANDARD
TZOFFSETFROM:-0400
TZOFFSETTO:-0500
TZNAME:EST
DTSTART:20251102T060000
END:STANDARD
BEGIN:DAYLIGHT
TZOFFSETFROM:-0500
TZOFFSETTO:-0400
TZNAME:EDT
DTSTART:20260308T070000
END:DAYLIGHT
BEGIN:STANDARD
TZOFFSETFROM:-0400
TZOFFSETTO:-0500
TZNAME:EST
DTSTART:20261101T060000
END:STANDARD
BEGIN:DAYLIGHT
TZOFFSETFROM:-0500
TZOFFSETTO:-0400
TZNAME:EDT
DTSTART:20270314T070000
END:DAYLIGHT
BEGIN:STANDARD
TZOFFSETFROM:-0400
TZOFFSETTO:-0500
TZNAME:EST
DTSTART:20271107T060000
END:STANDARD
END:VTIMEZONE
BEGIN:VEVENT
DTSTART;TZID=America/New_York:20260102T083000
DTEND;TZID=America/New_York:20260102T093000
DTSTAMP:20260424T042042
CREATED:20251126T181050Z
LAST-MODIFIED:20251126T181050Z
UID:10005701-1767342600-1767346200@www.ocartistsguild.org
SUMMARY:Yoga Friday's
DESCRIPTION:Yoga Friday’s!  \n$10 for members per session \n$15 for non members per session
URL:https://www.ocartistsguild.org/event/yoga-fridays-4/
LOCATION:Ocean County Artists Guild\, 22 Chestnut Avenue\, Island Heights\, NJ\, 08732\, United States
CATEGORIES:Classes,Events
END:VEVENT
BEGIN:VEVENT
DTSTART;TZID=America/New_York:20251230T123000
DTEND;TZID=America/New_York:20251230T160000
DTSTAMP:20260424T042042
CREATED:20250708T192017Z
LAST-MODIFIED:20250708T192017Z
UID:10004733-1767097800-1767110400@www.ocartistsguild.org
SUMMARY:Print Group 12:00 - 4:30
DESCRIPTION:Members Only: Print (weekly)\nDate: Tuesdays\, (dates subject to change. Contact Monitor)\nTime: 12:30 PM – 4PM; Duration: On Going\nMonitor: Leslie Ovechka\nTuesdays\, Materials provided at cost. Reduction printing in all forms using water-based ink and hand painting.\n$7.00 fee payable to monitor at the time of each class.
URL:https://www.ocartistsguild.org/event/print-group-1200-430/2025-12-30/
LOCATION:Ocean County Artists Guild\, 22 Chestnut Avenue\, Island Heights\, NJ\, 08732\, United States
CATEGORIES:Classes,Events
END:VEVENT
BEGIN:VEVENT
DTSTART;TZID=America/New_York:20251230T083000
DTEND;TZID=America/New_York:20251230T093000
DTSTAMP:20260424T042042
CREATED:20250708T175705Z
LAST-MODIFIED:20250922T152231Z
UID:10004471-1767083400-1767087000@www.ocartistsguild.org
SUMMARY:Yoga
DESCRIPTION:Yoga at the Guild!  \n$40 for members for the month or $10/session.  \n$60 for non members for the month or $15/session.
URL:https://www.ocartistsguild.org/event/yoga-7-15/2025-12-30/
LOCATION:Ocean County Artists Guild\, 22 Chestnut Avenue\, Island Heights\, NJ\, 08732\, United States
CATEGORIES:Classes,Events
END:VEVENT
BEGIN:VEVENT
DTSTART;TZID=America/New_York:20251226T083000
DTEND;TZID=America/New_York:20251226T093000
DTSTAMP:20260424T042042
CREATED:20251125T214853Z
LAST-MODIFIED:20251125T214853Z
UID:10005699-1766737800-1766741400@www.ocartistsguild.org
SUMMARY:Yoga Friday's
DESCRIPTION:Yoga Friday’s!  \n$10 for members per session \n$15 for non members per session
URL:https://www.ocartistsguild.org/event/yoga-fridays-3/
LOCATION:Ocean County Artists Guild\, 22 Chestnut Avenue\, Island Heights\, NJ\, 08732\, United States
CATEGORIES:Classes,Events
END:VEVENT
BEGIN:VEVENT
DTSTART;TZID=America/New_York:20251223T123000
DTEND;TZID=America/New_York:20251223T160000
DTSTAMP:20260424T042042
CREATED:20250708T192017Z
LAST-MODIFIED:20250708T192017Z
UID:10004732-1766493000-1766505600@www.ocartistsguild.org
SUMMARY:Print Group 12:00 - 4:30
DESCRIPTION:Members Only: Print (weekly)\nDate: Tuesdays\, (dates subject to change. Contact Monitor)\nTime: 12:30 PM – 4PM; Duration: On Going\nMonitor: Leslie Ovechka\nTuesdays\, Materials provided at cost. Reduction printing in all forms using water-based ink and hand painting.\n$7.00 fee payable to monitor at the time of each class.
URL:https://www.ocartistsguild.org/event/print-group-1200-430/2025-12-23/
LOCATION:Ocean County Artists Guild\, 22 Chestnut Avenue\, Island Heights\, NJ\, 08732\, United States
CATEGORIES:Classes,Events
END:VEVENT
BEGIN:VEVENT
DTSTART;TZID=America/New_York:20251223T083000
DTEND;TZID=America/New_York:20251223T093000
DTSTAMP:20260424T042042
CREATED:20250708T175705Z
LAST-MODIFIED:20250922T152231Z
UID:10004470-1766478600-1766482200@www.ocartistsguild.org
SUMMARY:Yoga
DESCRIPTION:Yoga at the Guild!  \n$40 for members for the month or $10/session.  \n$60 for non members for the month or $15/session.
URL:https://www.ocartistsguild.org/event/yoga-7-15/2025-12-23/
LOCATION:Ocean County Artists Guild\, 22 Chestnut Avenue\, Island Heights\, NJ\, 08732\, United States
CATEGORIES:Classes,Events
END:VEVENT
BEGIN:VEVENT
DTSTART;TZID=America/New_York:20251221T190000
DTEND;TZID=America/New_York:20251221T210000
DTSTAMP:20260424T042042
CREATED:20250708T204740Z
LAST-MODIFIED:20250915T194651Z
UID:10004994-1766343600-1766350800@www.ocartistsguild.org
SUMMARY:Song Circle Music Group
DESCRIPTION:Third Sunday of each month 6:00 pm to 8:00 pm\n(Tony Apostolaros 732-237-2041) \nThe Guild requests a $3 donation to the Guild at each session from each person who attends the session. \nWe take turns around the circle singing songs and maybe singing or playing along. We sing folk songs\, pop songs\, and hymns\, and sometimes we have an improvised music jam. The only rule is that it’s all acoustic\, with no amplifiers or microphones. Everyone is welcome to take a turn in the circle\, or just to listen. If you come just to listen\, feel free to bring a quiet activity such as sketching or reading. Free\nHere is a song sampling\nEvery time I come to the song circle it changes my mood. When you don’t feel like going is when you really should do it.\n– Mary Lutton
URL:https://www.ocartistsguild.org/event/song-circle-music-group-2/2025-12-21/
LOCATION:Ocean County Artists Guild\, 22 Chestnut Avenue\, Island Heights\, NJ\, 08732\, United States
CATEGORIES:Classes,Events
END:VEVENT
BEGIN:VEVENT
DTSTART;TZID=America/New_York:20251221T140000
DTEND;TZID=America/New_York:20251221T160000
DTSTAMP:20260424T042042
CREATED:20250815T210724Z
LAST-MODIFIED:20250815T210724Z
UID:10005377-1766325600-1766332800@www.ocartistsguild.org
SUMMARY:Sunday Portrait Drawing Workshop
DESCRIPTION:2-4 PM\, 22 Chestnut Ave. Island Heights NJ.\nEnter at side door on Ocean Ave.\n$10 for members\, $15 for non members\, free for teens.\nWe do not meet the first Sunday of the month due to regularly scheduled gallery receptions or holidays.
URL:https://www.ocartistsguild.org/event/sunday-portrait-drawing-workshop-13/
LOCATION:Ocean County Artists Guild\, 22 Chestnut Avenue\, Island Heights\, NJ\, 08732\, United States
CATEGORIES:Classes,Events
END:VEVENT
BEGIN:VEVENT
DTSTART;TZID=America/New_York:20251220T120000
DTEND;TZID=America/New_York:20251220T170000
DTSTAMP:20260424T042042
CREATED:20251121T193149Z
LAST-MODIFIED:20251121T193149Z
UID:10005682-1766232000-1766250000@www.ocartistsguild.org
SUMMARY:Bi-Annual Member's Art Show 2026 Pre-Registration
DESCRIPTION:You must pre-register for this event by December 20th. \nArt will be collected mid-January. \n1 piece for $35.00 \n2 pieces for $45.oo \nReception will be February 1st from 1:00 – 4:00. \nYour subject matter can be the music\, the landscapes\, the food\, the people\, the shorelines\, the mountains\, the literature\, animals\, cities\, or any significant subject that typifies our country and way of life. \nAcceptable media: \nDrawing \nOils \nWatercolor \nAcrylic \nMixed media \nPastels \nSculpture \nRelief and reduction prints \nNO PHOTOGRAPHY \nPrizes will be awarded in the following categories: \nlandscape/interior \nportrait/figure \nabstract/experimental \nstill-life/floral \nanimal/wildlife
URL:https://www.ocartistsguild.org/event/bi-annual-members-art-show-2026-pre-registration/
LOCATION:Ocean County Artists Guild\, 22 Chestnut Avenue\, Island Heights\, NJ\, 08732\, United States
END:VEVENT
BEGIN:VEVENT
DTSTART;TZID=America/New_York:20251220T100000
DTEND;TZID=America/New_York:20251220T120000
DTSTAMP:20260424T042042
CREATED:20250917T202235Z
LAST-MODIFIED:20250917T202235Z
UID:10005517-1766224800-1766232000@www.ocartistsguild.org
SUMMARY:Saturday Morning Figure Drawing Short Pose
DESCRIPTION:OCAG Saturday Morning Short Pose \nUndraped Figure Drawing Session \n10:00 AM – 12:00 PM \n$20 for members \n$25 for non members \nAdults 18 and up are welcome
URL:https://www.ocartistsguild.org/event/saturday-morning-figure-drawing-short-pose-28/
LOCATION:Ocean County Artists Guild\, 22 Chestnut Avenue\, Island Heights\, NJ\, 08732\, United States
CATEGORIES:Classes,Events
END:VEVENT
BEGIN:VEVENT
DTSTART;TZID=America/New_York:20251219T083000
DTEND;TZID=America/New_York:20251219T093000
DTSTAMP:20260424T042042
CREATED:20251125T214741Z
LAST-MODIFIED:20251125T214741Z
UID:10005698-1766133000-1766136600@www.ocartistsguild.org
SUMMARY:Yoga Friday's
DESCRIPTION:Yoga Friday’s!  \n$10 for members per session \n$15 for non members per session
URL:https://www.ocartistsguild.org/event/yoga-fridays-2/
LOCATION:Ocean County Artists Guild\, 22 Chestnut Avenue\, Island Heights\, NJ\, 08732\, United States
CATEGORIES:Classes,Events
END:VEVENT
BEGIN:VEVENT
DTSTART;TZID=America/New_York:20251218T103000
DTEND;TZID=America/New_York:20251218T160000
DTSTAMP:20260424T042042
CREATED:20250709T203911Z
LAST-MODIFIED:20250925T142902Z
UID:10005025-1766053800-1766073600@www.ocartistsguild.org
SUMMARY:D.Y.O.T. Group
DESCRIPTION:Do Your Own Thing \nThursdays 10:30-4:00 \nBring your own supplies and lunch \nMembers Only \n$10.00
URL:https://www.ocartistsguild.org/event/d-y-o-t-group/2025-12-18/
LOCATION:Ocean County Artists Guild\, 22 Chestnut Avenue\, Island Heights\, NJ\, 08732\, United States
CATEGORIES:Classes,Events
END:VEVENT
BEGIN:VEVENT
DTSTART;TZID=America/New_York:20251217T170000
DTEND;TZID=America/New_York:20251217T220000
DTSTAMP:20260424T042042
CREATED:20251110T203251Z
LAST-MODIFIED:20251119T195304Z
UID:10005655-1765990800-1766008800@www.ocartistsguild.org
SUMMARY:Holiday Jam at the Guild
DESCRIPTION:JD Live & the Ocean County Artists Guild presents: \nHoliday Jam at the Guild – All Star Line Up! \nWednesday\, December 17\, 2025 \nDoors at 5:00 PM \nMusic at 7:00 PM- 10:00 PM \nWHAT TO EXPECT \nHoliday Jam at the Guild – Featuring Diomede – Donovan – Penque – Mack – Rieders \nFood – Art – Music – Drinks – Vendors – Gifts – Dancing – Family Fun \n$15.00 \nAll ages BYO event
URL:https://www.ocartistsguild.org/event/holiday-jam-at-the-guild-all-star-line-up-tba/
LOCATION:Ocean County Artists Guild\, 22 Chestnut Avenue\, Island Heights\, NJ\, 08732\, United States
CATEGORIES:Classes,Events
END:VEVENT
BEGIN:VEVENT
DTSTART;TZID=America/New_York:20251217T160000
DTEND;TZID=America/New_York:20251217T171500
DTSTAMP:20260424T042042
CREATED:20250709T215244Z
LAST-MODIFIED:20250925T144722Z
UID:10005288-1765987200-1765991700@www.ocartistsguild.org
SUMMARY:December Children's Classes Wednesday
DESCRIPTION:4:00PM – 5:15PM \nDecember 3\, 10\, 17 \n$75 members \n$100 non-members \nDrop in’s welcome \n$25/session for members \n$35/session for non-members \nEach class is a journey into the world of colors and imagination\, where young artists are guided to create a new painting every week.  These sessions are designed to be fun and educational\, helping kids explore different painting techniques\, styles and themes.  It’s a fantastic way for children to express themselves\, develop their artistic skills\, and build confidence in their creativity.  Plus\, they get to take home a unique masterpiece after each class!
URL:https://www.ocartistsguild.org/event/december-childrens-classes-wednesday/2025-12-17/
LOCATION:Ocean County Artists Guild\, 22 Chestnut Avenue\, Island Heights\, NJ\, 08732\, United States
CATEGORIES:Classes,Events
END:VEVENT
BEGIN:VEVENT
DTSTART;TZID=America/New_York:20251217T093000
DTEND;TZID=America/New_York:20251217T120000
DTSTAMP:20260424T042042
CREATED:20250815T193735Z
LAST-MODIFIED:20250815T193735Z
UID:10005360-1765963800-1765972800@www.ocartistsguild.org
SUMMARY:Winter Mornings\, Watercolor Magic
DESCRIPTION:Winter Mornings\, Watercolor Magic \nNovember 5\, 12\, 19\, December 3\, 10\, 17 \n$120.00 Members \n$150.00 Non-Members \nHot tea.  Soft mittens.  Glowing candles.  Cozy birds. \nThis six week watercolor series is your midweek escape into calm and creativity.  Every Wednesday\, we’ll paint the season’s sweetest moments–layer by luminous layer.  No stress\, just joy.  Beginners welcome.  Magic guaranteed.
URL:https://www.ocartistsguild.org/event/winter-mornings-watercolor-magic-2/2025-12-17/
LOCATION:Ocean County Artists Guild\, 22 Chestnut Avenue\, Island Heights\, NJ\, 08732\, United States
CATEGORIES:Classes,Events
END:VEVENT
BEGIN:VEVENT
DTSTART;TZID=America/New_York:20251216T190000
DTEND;TZID=America/New_York:20251216T210000
DTSTAMP:20260424T042042
CREATED:20250815T212319Z
LAST-MODIFIED:20250815T212319Z
UID:10005384-1765911600-1765918800@www.ocartistsguild.org
SUMMARY:Tuesday Night Figure Drawing Long Pose
DESCRIPTION:OCAG Tuesday Night Long Pose \nUndraped Figure Drawing Session \n7:00 – 9:00 PM \n$20 for members \n$25 for non members \nAdults 18 and up are welcome
URL:https://www.ocartistsguild.org/event/tuesday-night-figure-drawing-long-pose-8/
LOCATION:Ocean County Artists Guild\, 22 Chestnut Avenue\, Island Heights\, NJ\, 08732\, United States
CATEGORIES:Classes,Events
END:VEVENT
BEGIN:VEVENT
DTSTART;TZID=America/New_York:20251216T160000
DTEND;TZID=America/New_York:20251216T171500
DTSTAMP:20260424T042042
CREATED:20250709T215610Z
LAST-MODIFIED:20250925T145231Z
UID:10005291-1765900800-1765905300@www.ocartistsguild.org
SUMMARY:December Children's Classes Tuesday
DESCRIPTION:Tuesday’s December 2\, 9\, 16 \n4:00PM – 5:15PM \n$75 members \n$100 non-members \nDrop in’s welcome \n$25/session for members \n$35/session for non-members \nEach class is a journey into the world of colors and imagination\, where young artists are guided to create a new painting every week.  These sessions are designed to be fun and educational\, helping kids explore different painting techniques\, styles and themes.  It’s a fantastic way for children to express themselves\, develop their artistic skills\, and build confidence in their creativity.  Plus\, they get to take home a unique masterpiece after each class!
URL:https://www.ocartistsguild.org/event/december-childrens-classes-tuesday-2/2025-12-16/
LOCATION:Ocean County Artists Guild\, 22 Chestnut Avenue\, Island Heights\, NJ\, 08732\, United States
CATEGORIES:Classes,Events
END:VEVENT
BEGIN:VEVENT
DTSTART;TZID=America/New_York:20251216T123000
DTEND;TZID=America/New_York:20251216T160000
DTSTAMP:20260424T042042
CREATED:20250708T192017Z
LAST-MODIFIED:20250708T192017Z
UID:10004731-1765888200-1765900800@www.ocartistsguild.org
SUMMARY:Print Group 12:00 - 4:30
DESCRIPTION:Members Only: Print (weekly)\nDate: Tuesdays\, (dates subject to change. Contact Monitor)\nTime: 12:30 PM – 4PM; Duration: On Going\nMonitor: Leslie Ovechka\nTuesdays\, Materials provided at cost. Reduction printing in all forms using water-based ink and hand painting.\n$7.00 fee payable to monitor at the time of each class.
URL:https://www.ocartistsguild.org/event/print-group-1200-430/2025-12-16/
LOCATION:Ocean County Artists Guild\, 22 Chestnut Avenue\, Island Heights\, NJ\, 08732\, United States
CATEGORIES:Classes,Events
END:VEVENT
BEGIN:VEVENT
DTSTART;TZID=America/New_York:20251216T083000
DTEND;TZID=America/New_York:20251216T093000
DTSTAMP:20260424T042042
CREATED:20250708T175705Z
LAST-MODIFIED:20250922T152231Z
UID:10004469-1765873800-1765877400@www.ocartistsguild.org
SUMMARY:Yoga
DESCRIPTION:Yoga at the Guild!  \n$40 for members for the month or $10/session.  \n$60 for non members for the month or $15/session.
URL:https://www.ocartistsguild.org/event/yoga-7-15/2025-12-16/
LOCATION:Ocean County Artists Guild\, 22 Chestnut Avenue\, Island Heights\, NJ\, 08732\, United States
CATEGORIES:Classes,Events
END:VEVENT
BEGIN:VEVENT
DTSTART;TZID=America/New_York:20251215T093000
DTEND;TZID=America/New_York:20251215T120000
DTSTAMP:20260424T042042
CREATED:20250814T204600Z
LAST-MODIFIED:20250814T204600Z
UID:10005334-1765791000-1765800000@www.ocartistsguild.org
SUMMARY:Hodge Still Life:  Holiday Edition
DESCRIPTION:December 1\,8\,15 9:30 AM – 12:00 PM \n$60 members \n$80 non-members \nCelebrate the season with quirky still life scenes–vintage ornaments\, cozy mugs and festive oddities painted in joyful watercolor.  A 4-week Monday escape full of charm\, sparkle and creative cheer!
URL:https://www.ocartistsguild.org/event/hodge-still-life-holiday-edition-2/2025-12-15/
LOCATION:Ocean County Artists Guild\, 22 Chestnut Avenue\, Island Heights\, NJ\, 08732\, United States
CATEGORIES:Classes,Events
END:VEVENT
BEGIN:VEVENT
DTSTART;TZID=America/New_York:20251214T140000
DTEND;TZID=America/New_York:20251214T160000
DTSTAMP:20260424T042042
CREATED:20250815T210600Z
LAST-MODIFIED:20250815T210600Z
UID:10005376-1765720800-1765728000@www.ocartistsguild.org
SUMMARY:Sunday Portrait Drawing Workshop
DESCRIPTION:2-4 PM\, 22 Chestnut Ave. Island Heights NJ.\nEnter at side door on Ocean Ave.\n$10 for members\, $15 for non members\, free for teens.\nWe do not meet the first Sunday of the month due to regularly scheduled gallery receptions or holidays.
URL:https://www.ocartistsguild.org/event/sunday-portrait-drawing-workshop-12/
LOCATION:Ocean County Artists Guild\, 22 Chestnut Avenue\, Island Heights\, NJ\, 08732\, United States
CATEGORIES:Classes,Events
END:VEVENT
BEGIN:VEVENT
DTSTART;TZID=America/New_York:20251213T090000
DTEND;TZID=America/New_York:20251213T163000
DTSTAMP:20260424T042042
CREATED:20250725T191206Z
LAST-MODIFIED:20251007T185739Z
UID:10005300-1765616400-1765643400@www.ocartistsguild.org
SUMMARY:Gelli Plate Workshop 12/13
DESCRIPTION:Gelli Plate Workshop with Tamara Woronczuk \nOctober 11\, 2025 \n9:00 AM – 4:30 PM \nMembers:  $45.00 \nNon-members:  $50.00 \n$5.00 supply fee payable to instructor the day of class.
URL:https://www.ocartistsguild.org/event/gelli-plate-workshop-10-11/
LOCATION:Ocean County Artists Guild\, 22 Chestnut Avenue\, Island Heights\, NJ\, 08732\, United States
CATEGORIES:Classes,Events
END:VEVENT
BEGIN:VEVENT
DTSTART;TZID=America/New_York:20251212T130000
DTEND;TZID=America/New_York:20251212T153000
DTSTAMP:20260424T042042
CREATED:20250930T203610Z
LAST-MODIFIED:20250930T203610Z
UID:10005570-1765544400-1765553400@www.ocartistsguild.org
SUMMARY:Mini Wooden Ornament Painting Workshop
DESCRIPTION:December 12\, 2025 \n1:00 – 3:30 PM \nJoin us for creativity and cheer!  In this hands-on mini workshop\, we’ll transform rustic wooden slices into whimsical holiday keepsakes – think candy cane bones\, glittery Santa hats\, and snow kissed  sparkle.  Perfect for gifting\, decorating \, or simply savoring the season.  \nAll supplies provided \nNo experience necessary – just bring your festive spirit!
URL:https://www.ocartistsguild.org/event/mini-wooden-ornament-painting-workshop/
LOCATION:Ocean County Artists Guild\, 22 Chestnut Avenue\, Island Heights\, NJ\, 08732\, United States
CATEGORIES:Classes,Events
END:VEVENT
BEGIN:VEVENT
DTSTART;TZID=America/New_York:20251212T083000
DTEND;TZID=America/New_York:20251212T093000
DTSTAMP:20260424T042042
CREATED:20251125T214623Z
LAST-MODIFIED:20251125T214623Z
UID:10005697-1765528200-1765531800@www.ocartistsguild.org
SUMMARY:Yoga Friday's
DESCRIPTION:Yoga Friday’s!  \n$10 for members per session \n$15 for non members per session
URL:https://www.ocartistsguild.org/event/yoga-fridays/
LOCATION:Ocean County Artists Guild\, 22 Chestnut Avenue\, Island Heights\, NJ\, 08732\, United States
CATEGORIES:Classes,Events
END:VEVENT
BEGIN:VEVENT
DTSTART;TZID=America/New_York:20251211T103000
DTEND;TZID=America/New_York:20251211T160000
DTSTAMP:20260424T042042
CREATED:20250709T203911Z
LAST-MODIFIED:20250925T142902Z
UID:10005024-1765449000-1765468800@www.ocartistsguild.org
SUMMARY:D.Y.O.T. Group
DESCRIPTION:Do Your Own Thing \nThursdays 10:30-4:00 \nBring your own supplies and lunch \nMembers Only \n$10.00
URL:https://www.ocartistsguild.org/event/d-y-o-t-group/2025-12-11/
LOCATION:Ocean County Artists Guild\, 22 Chestnut Avenue\, Island Heights\, NJ\, 08732\, United States
CATEGORIES:Classes,Events
END:VEVENT
BEGIN:VEVENT
DTSTART;TZID=America/New_York:20251210T160000
DTEND;TZID=America/New_York:20251210T171500
DTSTAMP:20260424T042042
CREATED:20250709T215244Z
LAST-MODIFIED:20250925T144722Z
UID:10005287-1765382400-1765386900@www.ocartistsguild.org
SUMMARY:December Children's Classes Wednesday
DESCRIPTION:4:00PM – 5:15PM \nDecember 3\, 10\, 17 \n$75 members \n$100 non-members \nDrop in’s welcome \n$25/session for members \n$35/session for non-members \nEach class is a journey into the world of colors and imagination\, where young artists are guided to create a new painting every week.  These sessions are designed to be fun and educational\, helping kids explore different painting techniques\, styles and themes.  It’s a fantastic way for children to express themselves\, develop their artistic skills\, and build confidence in their creativity.  Plus\, they get to take home a unique masterpiece after each class!
URL:https://www.ocartistsguild.org/event/december-childrens-classes-wednesday/2025-12-10/
LOCATION:Ocean County Artists Guild\, 22 Chestnut Avenue\, Island Heights\, NJ\, 08732\, United States
CATEGORIES:Classes,Events
END:VEVENT
BEGIN:VEVENT
DTSTART;TZID=America/New_York:20251210T153000
DTEND;TZID=America/New_York:20251210T173000
DTSTAMP:20260424T042042
CREATED:20250814T211534Z
LAST-MODIFIED:20250814T211534Z
UID:10005350-1765380600-1765387800@www.ocartistsguild.org
SUMMARY:D.Y.O.T. with Instruction
DESCRIPTION:New class begins October 8th (10/8\, 10/15\, 10/22\, 10/29\, 11/5\, 11/19\, 12/3\, 12/10) 8 week course \nInstructor:  Carol Colvin \nThis class is for the artist who is comfortable with their medium\, but could benefit by an instructor’s feedback with discussions about composition\, values\, perspective and/or color mixing. \nExploration and growth are class goals. \nExperimentation is encouraged and suggestions and materials are shared for that purpose. \nPainting from reference material or still life presented each week. \nBring your own materials and your creativity to this supportive environment. \n$160 members \n$200 non-members
URL:https://www.ocartistsguild.org/event/d-y-o-t-with-instruction-4/2025-12-10/
LOCATION:Ocean County Artists Guild\, 22 Chestnut Avenue\, Island Heights\, NJ\, 08732\, United States
CATEGORIES:Classes,Events
END:VEVENT
BEGIN:VEVENT
DTSTART;TZID=America/New_York:20251210T093000
DTEND;TZID=America/New_York:20251210T120000
DTSTAMP:20260424T042042
CREATED:20250815T193735Z
LAST-MODIFIED:20250815T193735Z
UID:10005359-1765359000-1765368000@www.ocartistsguild.org
SUMMARY:Winter Mornings\, Watercolor Magic
DESCRIPTION:Winter Mornings\, Watercolor Magic \nNovember 5\, 12\, 19\, December 3\, 10\, 17 \n$120.00 Members \n$150.00 Non-Members \nHot tea.  Soft mittens.  Glowing candles.  Cozy birds. \nThis six week watercolor series is your midweek escape into calm and creativity.  Every Wednesday\, we’ll paint the season’s sweetest moments–layer by luminous layer.  No stress\, just joy.  Beginners welcome.  Magic guaranteed.
URL:https://www.ocartistsguild.org/event/winter-mornings-watercolor-magic-2/2025-12-10/
LOCATION:Ocean County Artists Guild\, 22 Chestnut Avenue\, Island Heights\, NJ\, 08732\, United States
CATEGORIES:Classes,Events
END:VEVENT
BEGIN:VEVENT
DTSTART;TZID=America/New_York:20251209T160000
DTEND;TZID=America/New_York:20251209T171500
DTSTAMP:20260424T042042
CREATED:20250709T215610Z
LAST-MODIFIED:20250925T145231Z
UID:10005290-1765296000-1765300500@www.ocartistsguild.org
SUMMARY:December Children's Classes Tuesday
DESCRIPTION:Tuesday’s December 2\, 9\, 16 \n4:00PM – 5:15PM \n$75 members \n$100 non-members \nDrop in’s welcome \n$25/session for members \n$35/session for non-members \nEach class is a journey into the world of colors and imagination\, where young artists are guided to create a new painting every week.  These sessions are designed to be fun and educational\, helping kids explore different painting techniques\, styles and themes.  It’s a fantastic way for children to express themselves\, develop their artistic skills\, and build confidence in their creativity.  Plus\, they get to take home a unique masterpiece after each class!
URL:https://www.ocartistsguild.org/event/december-childrens-classes-tuesday-2/2025-12-09/
LOCATION:Ocean County Artists Guild\, 22 Chestnut Avenue\, Island Heights\, NJ\, 08732\, United States
CATEGORIES:Classes,Events
END:VEVENT
BEGIN:VEVENT
DTSTART;TZID=America/New_York:20251209T123000
DTEND;TZID=America/New_York:20251209T160000
DTSTAMP:20260424T042042
CREATED:20250708T192017Z
LAST-MODIFIED:20250708T192017Z
UID:10004730-1765283400-1765296000@www.ocartistsguild.org
SUMMARY:Print Group 12:00 - 4:30
DESCRIPTION:Members Only: Print (weekly)\nDate: Tuesdays\, (dates subject to change. Contact Monitor)\nTime: 12:30 PM – 4PM; Duration: On Going\nMonitor: Leslie Ovechka\nTuesdays\, Materials provided at cost. Reduction printing in all forms using water-based ink and hand painting.\n$7.00 fee payable to monitor at the time of each class.
URL:https://www.ocartistsguild.org/event/print-group-1200-430/2025-12-09/
LOCATION:Ocean County Artists Guild\, 22 Chestnut Avenue\, Island Heights\, NJ\, 08732\, United States
CATEGORIES:Classes,Events
END:VEVENT
END:VCALENDAR