BEGIN:VCALENDAR
VERSION:2.0
PRODID:-//Ocean County Artists&#039; Guild - ECPv6.15.13//NONSGML v1.0//EN
CALSCALE:GREGORIAN
METHOD:PUBLISH
X-WR-CALNAME:Ocean County Artists&#039; Guild
X-ORIGINAL-URL:https://www.ocartistsguild.org
X-WR-CALDESC:Events for Ocean County Artists&#039; Guild
REFRESH-INTERVAL;VALUE=DURATION:PT1H
X-Robots-Tag:noindex
X-PUBLISHED-TTL:PT1H
BEGIN:VTIMEZONE
TZID:America/New_York
BEGIN:DAYLIGHT
TZOFFSETFROM:-0500
TZOFFSETTO:-0400
TZNAME:EDT
DTSTART:20250309T070000
END:DAYLIGHT
BEGIN:STANDARD
TZOFFSETFROM:-0400
TZOFFSETTO:-0500
TZNAME:EST
DTSTART:20251102T060000
END:STANDARD
BEGIN:DAYLIGHT
TZOFFSETFROM:-0500
TZOFFSETTO:-0400
TZNAME:EDT
DTSTART:20260308T070000
END:DAYLIGHT
BEGIN:STANDARD
TZOFFSETFROM:-0400
TZOFFSETTO:-0500
TZNAME:EST
DTSTART:20261101T060000
END:STANDARD
BEGIN:DAYLIGHT
TZOFFSETFROM:-0500
TZOFFSETTO:-0400
TZNAME:EDT
DTSTART:20270314T070000
END:DAYLIGHT
BEGIN:STANDARD
TZOFFSETFROM:-0400
TZOFFSETTO:-0500
TZNAME:EST
DTSTART:20271107T060000
END:STANDARD
END:VTIMEZONE
BEGIN:VEVENT
DTSTART;TZID=America/New_York:20260421T123000
DTEND;TZID=America/New_York:20260421T160000
DTSTAMP:20260421T061453
CREATED:20250708T192017Z
LAST-MODIFIED:20250708T192017Z
UID:10004749-1776774600-1776787200@www.ocartistsguild.org
SUMMARY:Print Group 12:00 - 4:30
DESCRIPTION:Members Only: Print (weekly)\nDate: Tuesdays\, (dates subject to change. Contact Monitor)\nTime: 12:30 PM – 4PM; Duration: On Going\nMonitor: Leslie Ovechka\nTuesdays\, Materials provided at cost. Reduction printing in all forms using water-based ink and hand painting.\n$7.00 fee payable to monitor at the time of each class.
URL:https://www.ocartistsguild.org/event/print-group-1200-430/2026-04-21/
LOCATION:Ocean County Artists Guild\, 22 Chestnut Avenue\, Island Heights\, NJ\, 08732\, United States
CATEGORIES:Classes,Events
END:VEVENT
BEGIN:VEVENT
DTSTART;TZID=America/New_York:20260428T123000
DTEND;TZID=America/New_York:20260428T160000
DTSTAMP:20260421T061453
CREATED:20250708T192017Z
LAST-MODIFIED:20250708T192017Z
UID:10004750-1777379400-1777392000@www.ocartistsguild.org
SUMMARY:Print Group 12:00 - 4:30
DESCRIPTION:Members Only: Print (weekly)\nDate: Tuesdays\, (dates subject to change. Contact Monitor)\nTime: 12:30 PM – 4PM; Duration: On Going\nMonitor: Leslie Ovechka\nTuesdays\, Materials provided at cost. Reduction printing in all forms using water-based ink and hand painting.\n$7.00 fee payable to monitor at the time of each class.
URL:https://www.ocartistsguild.org/event/print-group-1200-430/2026-04-28/
LOCATION:Ocean County Artists Guild\, 22 Chestnut Avenue\, Island Heights\, NJ\, 08732\, United States
CATEGORIES:Classes,Events
END:VEVENT
BEGIN:VEVENT
DTSTART;TZID=America/New_York:20260505T123000
DTEND;TZID=America/New_York:20260505T160000
DTSTAMP:20260421T061453
CREATED:20250708T192017Z
LAST-MODIFIED:20250708T192017Z
UID:10004751-1777984200-1777996800@www.ocartistsguild.org
SUMMARY:Print Group 12:00 - 4:30
DESCRIPTION:Members Only: Print (weekly)\nDate: Tuesdays\, (dates subject to change. Contact Monitor)\nTime: 12:30 PM – 4PM; Duration: On Going\nMonitor: Leslie Ovechka\nTuesdays\, Materials provided at cost. Reduction printing in all forms using water-based ink and hand painting.\n$7.00 fee payable to monitor at the time of each class.
URL:https://www.ocartistsguild.org/event/print-group-1200-430/2026-05-05/
LOCATION:Ocean County Artists Guild\, 22 Chestnut Avenue\, Island Heights\, NJ\, 08732\, United States
CATEGORIES:Classes,Events
END:VEVENT
BEGIN:VEVENT
DTSTART;TZID=America/New_York:20260512T123000
DTEND;TZID=America/New_York:20260512T160000
DTSTAMP:20260421T061453
CREATED:20250708T192017Z
LAST-MODIFIED:20250708T192017Z
UID:10004752-1778589000-1778601600@www.ocartistsguild.org
SUMMARY:Print Group 12:00 - 4:30
DESCRIPTION:Members Only: Print (weekly)\nDate: Tuesdays\, (dates subject to change. Contact Monitor)\nTime: 12:30 PM – 4PM; Duration: On Going\nMonitor: Leslie Ovechka\nTuesdays\, Materials provided at cost. Reduction printing in all forms using water-based ink and hand painting.\n$7.00 fee payable to monitor at the time of each class.
URL:https://www.ocartistsguild.org/event/print-group-1200-430/2026-05-12/
LOCATION:Ocean County Artists Guild\, 22 Chestnut Avenue\, Island Heights\, NJ\, 08732\, United States
CATEGORIES:Classes,Events
END:VEVENT
BEGIN:VEVENT
DTSTART;TZID=America/New_York:20260519T123000
DTEND;TZID=America/New_York:20260519T160000
DTSTAMP:20260421T061453
CREATED:20250708T192017Z
LAST-MODIFIED:20250708T192017Z
UID:10004753-1779193800-1779206400@www.ocartistsguild.org
SUMMARY:Print Group 12:00 - 4:30
DESCRIPTION:Members Only: Print (weekly)\nDate: Tuesdays\, (dates subject to change. Contact Monitor)\nTime: 12:30 PM – 4PM; Duration: On Going\nMonitor: Leslie Ovechka\nTuesdays\, Materials provided at cost. Reduction printing in all forms using water-based ink and hand painting.\n$7.00 fee payable to monitor at the time of each class.
URL:https://www.ocartistsguild.org/event/print-group-1200-430/2026-05-19/
LOCATION:Ocean County Artists Guild\, 22 Chestnut Avenue\, Island Heights\, NJ\, 08732\, United States
CATEGORIES:Classes,Events
END:VEVENT
BEGIN:VEVENT
DTSTART;TZID=America/New_York:20260526T123000
DTEND;TZID=America/New_York:20260526T160000
DTSTAMP:20260421T061453
CREATED:20250708T192017Z
LAST-MODIFIED:20250708T192017Z
UID:10004754-1779798600-1779811200@www.ocartistsguild.org
SUMMARY:Print Group 12:00 - 4:30
DESCRIPTION:Members Only: Print (weekly)\nDate: Tuesdays\, (dates subject to change. Contact Monitor)\nTime: 12:30 PM – 4PM; Duration: On Going\nMonitor: Leslie Ovechka\nTuesdays\, Materials provided at cost. Reduction printing in all forms using water-based ink and hand painting.\n$7.00 fee payable to monitor at the time of each class.
URL:https://www.ocartistsguild.org/event/print-group-1200-430/2026-05-26/
LOCATION:Ocean County Artists Guild\, 22 Chestnut Avenue\, Island Heights\, NJ\, 08732\, United States
CATEGORIES:Classes,Events
END:VEVENT
BEGIN:VEVENT
DTSTART;TZID=America/New_York:20260602T123000
DTEND;TZID=America/New_York:20260602T160000
DTSTAMP:20260421T061453
CREATED:20250708T192017Z
LAST-MODIFIED:20250708T192017Z
UID:10004755-1780403400-1780416000@www.ocartistsguild.org
SUMMARY:Print Group 12:00 - 4:30
DESCRIPTION:Members Only: Print (weekly)\nDate: Tuesdays\, (dates subject to change. Contact Monitor)\nTime: 12:30 PM – 4PM; Duration: On Going\nMonitor: Leslie Ovechka\nTuesdays\, Materials provided at cost. Reduction printing in all forms using water-based ink and hand painting.\n$7.00 fee payable to monitor at the time of each class.
URL:https://www.ocartistsguild.org/event/print-group-1200-430/2026-06-02/
LOCATION:Ocean County Artists Guild\, 22 Chestnut Avenue\, Island Heights\, NJ\, 08732\, United States
CATEGORIES:Classes,Events
END:VEVENT
BEGIN:VEVENT
DTSTART;TZID=America/New_York:20260609T123000
DTEND;TZID=America/New_York:20260609T160000
DTSTAMP:20260421T061453
CREATED:20250708T192017Z
LAST-MODIFIED:20250708T192017Z
UID:10004756-1781008200-1781020800@www.ocartistsguild.org
SUMMARY:Print Group 12:00 - 4:30
DESCRIPTION:Members Only: Print (weekly)\nDate: Tuesdays\, (dates subject to change. Contact Monitor)\nTime: 12:30 PM – 4PM; Duration: On Going\nMonitor: Leslie Ovechka\nTuesdays\, Materials provided at cost. Reduction printing in all forms using water-based ink and hand painting.\n$7.00 fee payable to monitor at the time of each class.
URL:https://www.ocartistsguild.org/event/print-group-1200-430/2026-06-09/
LOCATION:Ocean County Artists Guild\, 22 Chestnut Avenue\, Island Heights\, NJ\, 08732\, United States
CATEGORIES:Classes,Events
END:VEVENT
BEGIN:VEVENT
DTSTART;TZID=America/New_York:20260616T123000
DTEND;TZID=America/New_York:20260616T160000
DTSTAMP:20260421T061453
CREATED:20250708T192017Z
LAST-MODIFIED:20250708T192017Z
UID:10004757-1781613000-1781625600@www.ocartistsguild.org
SUMMARY:Print Group 12:00 - 4:30
DESCRIPTION:Members Only: Print (weekly)\nDate: Tuesdays\, (dates subject to change. Contact Monitor)\nTime: 12:30 PM – 4PM; Duration: On Going\nMonitor: Leslie Ovechka\nTuesdays\, Materials provided at cost. Reduction printing in all forms using water-based ink and hand painting.\n$7.00 fee payable to monitor at the time of each class.
URL:https://www.ocartistsguild.org/event/print-group-1200-430/2026-06-16/
LOCATION:Ocean County Artists Guild\, 22 Chestnut Avenue\, Island Heights\, NJ\, 08732\, United States
CATEGORIES:Classes,Events
END:VEVENT
BEGIN:VEVENT
DTSTART;TZID=America/New_York:20260623T123000
DTEND;TZID=America/New_York:20260623T160000
DTSTAMP:20260421T061453
CREATED:20250708T192017Z
LAST-MODIFIED:20250708T192017Z
UID:10004758-1782217800-1782230400@www.ocartistsguild.org
SUMMARY:Print Group 12:00 - 4:30
DESCRIPTION:Members Only: Print (weekly)\nDate: Tuesdays\, (dates subject to change. Contact Monitor)\nTime: 12:30 PM – 4PM; Duration: On Going\nMonitor: Leslie Ovechka\nTuesdays\, Materials provided at cost. Reduction printing in all forms using water-based ink and hand painting.\n$7.00 fee payable to monitor at the time of each class.
URL:https://www.ocartistsguild.org/event/print-group-1200-430/2026-06-23/
LOCATION:Ocean County Artists Guild\, 22 Chestnut Avenue\, Island Heights\, NJ\, 08732\, United States
CATEGORIES:Classes,Events
END:VEVENT
BEGIN:VEVENT
DTSTART;TZID=America/New_York:20260630T123000
DTEND;TZID=America/New_York:20260630T160000
DTSTAMP:20260421T061453
CREATED:20250708T192017Z
LAST-MODIFIED:20250708T192017Z
UID:10004759-1782822600-1782835200@www.ocartistsguild.org
SUMMARY:Print Group 12:00 - 4:30
DESCRIPTION:Members Only: Print (weekly)\nDate: Tuesdays\, (dates subject to change. Contact Monitor)\nTime: 12:30 PM – 4PM; Duration: On Going\nMonitor: Leslie Ovechka\nTuesdays\, Materials provided at cost. Reduction printing in all forms using water-based ink and hand painting.\n$7.00 fee payable to monitor at the time of each class.
URL:https://www.ocartistsguild.org/event/print-group-1200-430/2026-06-30/
LOCATION:Ocean County Artists Guild\, 22 Chestnut Avenue\, Island Heights\, NJ\, 08732\, United States
CATEGORIES:Classes,Events
END:VEVENT
BEGIN:VEVENT
DTSTART;TZID=America/New_York:20260707T123000
DTEND;TZID=America/New_York:20260707T160000
DTSTAMP:20260421T061453
CREATED:20250708T192017Z
LAST-MODIFIED:20250708T192017Z
UID:10004760-1783427400-1783440000@www.ocartistsguild.org
SUMMARY:Print Group 12:00 - 4:30
DESCRIPTION:Members Only: Print (weekly)\nDate: Tuesdays\, (dates subject to change. Contact Monitor)\nTime: 12:30 PM – 4PM; Duration: On Going\nMonitor: Leslie Ovechka\nTuesdays\, Materials provided at cost. Reduction printing in all forms using water-based ink and hand painting.\n$7.00 fee payable to monitor at the time of each class.
URL:https://www.ocartistsguild.org/event/print-group-1200-430/2026-07-07/
LOCATION:Ocean County Artists Guild\, 22 Chestnut Avenue\, Island Heights\, NJ\, 08732\, United States
CATEGORIES:Classes,Events
END:VEVENT
BEGIN:VEVENT
DTSTART;TZID=America/New_York:20260714T123000
DTEND;TZID=America/New_York:20260714T160000
DTSTAMP:20260421T061453
CREATED:20250708T192017Z
LAST-MODIFIED:20250708T192017Z
UID:10004761-1784032200-1784044800@www.ocartistsguild.org
SUMMARY:Print Group 12:00 - 4:30
DESCRIPTION:Members Only: Print (weekly)\nDate: Tuesdays\, (dates subject to change. Contact Monitor)\nTime: 12:30 PM – 4PM; Duration: On Going\nMonitor: Leslie Ovechka\nTuesdays\, Materials provided at cost. Reduction printing in all forms using water-based ink and hand painting.\n$7.00 fee payable to monitor at the time of each class.
URL:https://www.ocartistsguild.org/event/print-group-1200-430/2026-07-14/
LOCATION:Ocean County Artists Guild\, 22 Chestnut Avenue\, Island Heights\, NJ\, 08732\, United States
CATEGORIES:Classes,Events
END:VEVENT
BEGIN:VEVENT
DTSTART;TZID=America/New_York:20260721T123000
DTEND;TZID=America/New_York:20260721T160000
DTSTAMP:20260421T061453
CREATED:20250708T192017Z
LAST-MODIFIED:20250708T192017Z
UID:10004762-1784637000-1784649600@www.ocartistsguild.org
SUMMARY:Print Group 12:00 - 4:30
DESCRIPTION:Members Only: Print (weekly)\nDate: Tuesdays\, (dates subject to change. Contact Monitor)\nTime: 12:30 PM – 4PM; Duration: On Going\nMonitor: Leslie Ovechka\nTuesdays\, Materials provided at cost. Reduction printing in all forms using water-based ink and hand painting.\n$7.00 fee payable to monitor at the time of each class.
URL:https://www.ocartistsguild.org/event/print-group-1200-430/2026-07-21/
LOCATION:Ocean County Artists Guild\, 22 Chestnut Avenue\, Island Heights\, NJ\, 08732\, United States
CATEGORIES:Classes,Events
END:VEVENT
BEGIN:VEVENT
DTSTART;TZID=America/New_York:20260728T123000
DTEND;TZID=America/New_York:20260728T160000
DTSTAMP:20260421T061453
CREATED:20250708T192017Z
LAST-MODIFIED:20250708T192017Z
UID:10004763-1785241800-1785254400@www.ocartistsguild.org
SUMMARY:Print Group 12:00 - 4:30
DESCRIPTION:Members Only: Print (weekly)\nDate: Tuesdays\, (dates subject to change. Contact Monitor)\nTime: 12:30 PM – 4PM; Duration: On Going\nMonitor: Leslie Ovechka\nTuesdays\, Materials provided at cost. Reduction printing in all forms using water-based ink and hand painting.\n$7.00 fee payable to monitor at the time of each class.
URL:https://www.ocartistsguild.org/event/print-group-1200-430/2026-07-28/
LOCATION:Ocean County Artists Guild\, 22 Chestnut Avenue\, Island Heights\, NJ\, 08732\, United States
CATEGORIES:Classes,Events
END:VEVENT
BEGIN:VEVENT
DTSTART;TZID=America/New_York:20260804T123000
DTEND;TZID=America/New_York:20260804T160000
DTSTAMP:20260421T061453
CREATED:20250708T192017Z
LAST-MODIFIED:20250708T192017Z
UID:10004764-1785846600-1785859200@www.ocartistsguild.org
SUMMARY:Print Group 12:00 - 4:30
DESCRIPTION:Members Only: Print (weekly)\nDate: Tuesdays\, (dates subject to change. Contact Monitor)\nTime: 12:30 PM – 4PM; Duration: On Going\nMonitor: Leslie Ovechka\nTuesdays\, Materials provided at cost. Reduction printing in all forms using water-based ink and hand painting.\n$7.00 fee payable to monitor at the time of each class.
URL:https://www.ocartistsguild.org/event/print-group-1200-430/2026-08-04/
LOCATION:Ocean County Artists Guild\, 22 Chestnut Avenue\, Island Heights\, NJ\, 08732\, United States
CATEGORIES:Classes,Events
END:VEVENT
BEGIN:VEVENT
DTSTART;TZID=America/New_York:20260811T123000
DTEND;TZID=America/New_York:20260811T160000
DTSTAMP:20260421T061453
CREATED:20250708T192017Z
LAST-MODIFIED:20250708T192017Z
UID:10004765-1786451400-1786464000@www.ocartistsguild.org
SUMMARY:Print Group 12:00 - 4:30
DESCRIPTION:Members Only: Print (weekly)\nDate: Tuesdays\, (dates subject to change. Contact Monitor)\nTime: 12:30 PM – 4PM; Duration: On Going\nMonitor: Leslie Ovechka\nTuesdays\, Materials provided at cost. Reduction printing in all forms using water-based ink and hand painting.\n$7.00 fee payable to monitor at the time of each class.
URL:https://www.ocartistsguild.org/event/print-group-1200-430/2026-08-11/
LOCATION:Ocean County Artists Guild\, 22 Chestnut Avenue\, Island Heights\, NJ\, 08732\, United States
CATEGORIES:Classes,Events
END:VEVENT
BEGIN:VEVENT
DTSTART;TZID=America/New_York:20260818T123000
DTEND;TZID=America/New_York:20260818T160000
DTSTAMP:20260421T061453
CREATED:20250708T192017Z
LAST-MODIFIED:20250708T192017Z
UID:10004766-1787056200-1787068800@www.ocartistsguild.org
SUMMARY:Print Group 12:00 - 4:30
DESCRIPTION:Members Only: Print (weekly)\nDate: Tuesdays\, (dates subject to change. Contact Monitor)\nTime: 12:30 PM – 4PM; Duration: On Going\nMonitor: Leslie Ovechka\nTuesdays\, Materials provided at cost. Reduction printing in all forms using water-based ink and hand painting.\n$7.00 fee payable to monitor at the time of each class.
URL:https://www.ocartistsguild.org/event/print-group-1200-430/2026-08-18/
LOCATION:Ocean County Artists Guild\, 22 Chestnut Avenue\, Island Heights\, NJ\, 08732\, United States
CATEGORIES:Classes,Events
END:VEVENT
BEGIN:VEVENT
DTSTART;TZID=America/New_York:20260825T123000
DTEND;TZID=America/New_York:20260825T160000
DTSTAMP:20260421T061453
CREATED:20250708T192017Z
LAST-MODIFIED:20250708T192017Z
UID:10004767-1787661000-1787673600@www.ocartistsguild.org
SUMMARY:Print Group 12:00 - 4:30
DESCRIPTION:Members Only: Print (weekly)\nDate: Tuesdays\, (dates subject to change. Contact Monitor)\nTime: 12:30 PM – 4PM; Duration: On Going\nMonitor: Leslie Ovechka\nTuesdays\, Materials provided at cost. Reduction printing in all forms using water-based ink and hand painting.\n$7.00 fee payable to monitor at the time of each class.
URL:https://www.ocartistsguild.org/event/print-group-1200-430/2026-08-25/
LOCATION:Ocean County Artists Guild\, 22 Chestnut Avenue\, Island Heights\, NJ\, 08732\, United States
CATEGORIES:Classes,Events
END:VEVENT
BEGIN:VEVENT
DTSTART;TZID=America/New_York:20260901T123000
DTEND;TZID=America/New_York:20260901T160000
DTSTAMP:20260421T061453
CREATED:20250708T192017Z
LAST-MODIFIED:20250708T192017Z
UID:10004768-1788265800-1788278400@www.ocartistsguild.org
SUMMARY:Print Group 12:00 - 4:30
DESCRIPTION:Members Only: Print (weekly)\nDate: Tuesdays\, (dates subject to change. Contact Monitor)\nTime: 12:30 PM – 4PM; Duration: On Going\nMonitor: Leslie Ovechka\nTuesdays\, Materials provided at cost. Reduction printing in all forms using water-based ink and hand painting.\n$7.00 fee payable to monitor at the time of each class.
URL:https://www.ocartistsguild.org/event/print-group-1200-430/2026-09-01/
LOCATION:Ocean County Artists Guild\, 22 Chestnut Avenue\, Island Heights\, NJ\, 08732\, United States
CATEGORIES:Classes,Events
END:VEVENT
BEGIN:VEVENT
DTSTART;TZID=America/New_York:20260908T123000
DTEND;TZID=America/New_York:20260908T160000
DTSTAMP:20260421T061453
CREATED:20250708T192017Z
LAST-MODIFIED:20250708T192017Z
UID:10004769-1788870600-1788883200@www.ocartistsguild.org
SUMMARY:Print Group 12:00 - 4:30
DESCRIPTION:Members Only: Print (weekly)\nDate: Tuesdays\, (dates subject to change. Contact Monitor)\nTime: 12:30 PM – 4PM; Duration: On Going\nMonitor: Leslie Ovechka\nTuesdays\, Materials provided at cost. Reduction printing in all forms using water-based ink and hand painting.\n$7.00 fee payable to monitor at the time of each class.
URL:https://www.ocartistsguild.org/event/print-group-1200-430/2026-09-08/
LOCATION:Ocean County Artists Guild\, 22 Chestnut Avenue\, Island Heights\, NJ\, 08732\, United States
CATEGORIES:Classes,Events
END:VEVENT
BEGIN:VEVENT
DTSTART;TZID=America/New_York:20260915T123000
DTEND;TZID=America/New_York:20260915T160000
DTSTAMP:20260421T061453
CREATED:20250708T192017Z
LAST-MODIFIED:20250708T192017Z
UID:10004770-1789475400-1789488000@www.ocartistsguild.org
SUMMARY:Print Group 12:00 - 4:30
DESCRIPTION:Members Only: Print (weekly)\nDate: Tuesdays\, (dates subject to change. Contact Monitor)\nTime: 12:30 PM – 4PM; Duration: On Going\nMonitor: Leslie Ovechka\nTuesdays\, Materials provided at cost. Reduction printing in all forms using water-based ink and hand painting.\n$7.00 fee payable to monitor at the time of each class.
URL:https://www.ocartistsguild.org/event/print-group-1200-430/2026-09-15/
LOCATION:Ocean County Artists Guild\, 22 Chestnut Avenue\, Island Heights\, NJ\, 08732\, United States
CATEGORIES:Classes,Events
END:VEVENT
BEGIN:VEVENT
DTSTART;TZID=America/New_York:20260922T123000
DTEND;TZID=America/New_York:20260922T160000
DTSTAMP:20260421T061453
CREATED:20250708T192017Z
LAST-MODIFIED:20250708T192017Z
UID:10004771-1790080200-1790092800@www.ocartistsguild.org
SUMMARY:Print Group 12:00 - 4:30
DESCRIPTION:Members Only: Print (weekly)\nDate: Tuesdays\, (dates subject to change. Contact Monitor)\nTime: 12:30 PM – 4PM; Duration: On Going\nMonitor: Leslie Ovechka\nTuesdays\, Materials provided at cost. Reduction printing in all forms using water-based ink and hand painting.\n$7.00 fee payable to monitor at the time of each class.
URL:https://www.ocartistsguild.org/event/print-group-1200-430/2026-09-22/
LOCATION:Ocean County Artists Guild\, 22 Chestnut Avenue\, Island Heights\, NJ\, 08732\, United States
CATEGORIES:Classes,Events
END:VEVENT
BEGIN:VEVENT
DTSTART;TZID=America/New_York:20260929T123000
DTEND;TZID=America/New_York:20260929T160000
DTSTAMP:20260421T061453
CREATED:20250708T192017Z
LAST-MODIFIED:20250708T192017Z
UID:10004772-1790685000-1790697600@www.ocartistsguild.org
SUMMARY:Print Group 12:00 - 4:30
DESCRIPTION:Members Only: Print (weekly)\nDate: Tuesdays\, (dates subject to change. Contact Monitor)\nTime: 12:30 PM – 4PM; Duration: On Going\nMonitor: Leslie Ovechka\nTuesdays\, Materials provided at cost. Reduction printing in all forms using water-based ink and hand painting.\n$7.00 fee payable to monitor at the time of each class.
URL:https://www.ocartistsguild.org/event/print-group-1200-430/2026-09-29/
LOCATION:Ocean County Artists Guild\, 22 Chestnut Avenue\, Island Heights\, NJ\, 08732\, United States
CATEGORIES:Classes,Events
END:VEVENT
BEGIN:VEVENT
DTSTART;TZID=America/New_York:20261006T123000
DTEND;TZID=America/New_York:20261006T160000
DTSTAMP:20260421T061453
CREATED:20250708T192017Z
LAST-MODIFIED:20250708T192017Z
UID:10004773-1791289800-1791302400@www.ocartistsguild.org
SUMMARY:Print Group 12:00 - 4:30
DESCRIPTION:Members Only: Print (weekly)\nDate: Tuesdays\, (dates subject to change. Contact Monitor)\nTime: 12:30 PM – 4PM; Duration: On Going\nMonitor: Leslie Ovechka\nTuesdays\, Materials provided at cost. Reduction printing in all forms using water-based ink and hand painting.\n$7.00 fee payable to monitor at the time of each class.
URL:https://www.ocartistsguild.org/event/print-group-1200-430/2026-10-06/
LOCATION:Ocean County Artists Guild\, 22 Chestnut Avenue\, Island Heights\, NJ\, 08732\, United States
CATEGORIES:Classes,Events
END:VEVENT
BEGIN:VEVENT
DTSTART;TZID=America/New_York:20261013T123000
DTEND;TZID=America/New_York:20261013T160000
DTSTAMP:20260421T061453
CREATED:20250708T192017Z
LAST-MODIFIED:20250708T192017Z
UID:10004774-1791894600-1791907200@www.ocartistsguild.org
SUMMARY:Print Group 12:00 - 4:30
DESCRIPTION:Members Only: Print (weekly)\nDate: Tuesdays\, (dates subject to change. Contact Monitor)\nTime: 12:30 PM – 4PM; Duration: On Going\nMonitor: Leslie Ovechka\nTuesdays\, Materials provided at cost. Reduction printing in all forms using water-based ink and hand painting.\n$7.00 fee payable to monitor at the time of each class.
URL:https://www.ocartistsguild.org/event/print-group-1200-430/2026-10-13/
LOCATION:Ocean County Artists Guild\, 22 Chestnut Avenue\, Island Heights\, NJ\, 08732\, United States
CATEGORIES:Classes,Events
END:VEVENT
BEGIN:VEVENT
DTSTART;TZID=America/New_York:20261020T123000
DTEND;TZID=America/New_York:20261020T160000
DTSTAMP:20260421T061453
CREATED:20250708T192017Z
LAST-MODIFIED:20250708T192017Z
UID:10004775-1792499400-1792512000@www.ocartistsguild.org
SUMMARY:Print Group 12:00 - 4:30
DESCRIPTION:Members Only: Print (weekly)\nDate: Tuesdays\, (dates subject to change. Contact Monitor)\nTime: 12:30 PM – 4PM; Duration: On Going\nMonitor: Leslie Ovechka\nTuesdays\, Materials provided at cost. Reduction printing in all forms using water-based ink and hand painting.\n$7.00 fee payable to monitor at the time of each class.
URL:https://www.ocartistsguild.org/event/print-group-1200-430/2026-10-20/
LOCATION:Ocean County Artists Guild\, 22 Chestnut Avenue\, Island Heights\, NJ\, 08732\, United States
CATEGORIES:Classes,Events
END:VEVENT
BEGIN:VEVENT
DTSTART;TZID=America/New_York:20261027T123000
DTEND;TZID=America/New_York:20261027T160000
DTSTAMP:20260421T061453
CREATED:20250708T192017Z
LAST-MODIFIED:20250708T192017Z
UID:10004776-1793104200-1793116800@www.ocartistsguild.org
SUMMARY:Print Group 12:00 - 4:30
DESCRIPTION:Members Only: Print (weekly)\nDate: Tuesdays\, (dates subject to change. Contact Monitor)\nTime: 12:30 PM – 4PM; Duration: On Going\nMonitor: Leslie Ovechka\nTuesdays\, Materials provided at cost. Reduction printing in all forms using water-based ink and hand painting.\n$7.00 fee payable to monitor at the time of each class.
URL:https://www.ocartistsguild.org/event/print-group-1200-430/2026-10-27/
LOCATION:Ocean County Artists Guild\, 22 Chestnut Avenue\, Island Heights\, NJ\, 08732\, United States
CATEGORIES:Classes,Events
END:VEVENT
BEGIN:VEVENT
DTSTART;TZID=America/New_York:20261103T123000
DTEND;TZID=America/New_York:20261103T160000
DTSTAMP:20260421T061453
CREATED:20250708T192017Z
LAST-MODIFIED:20250708T192017Z
UID:10004777-1793709000-1793721600@www.ocartistsguild.org
SUMMARY:Print Group 12:00 - 4:30
DESCRIPTION:Members Only: Print (weekly)\nDate: Tuesdays\, (dates subject to change. Contact Monitor)\nTime: 12:30 PM – 4PM; Duration: On Going\nMonitor: Leslie Ovechka\nTuesdays\, Materials provided at cost. Reduction printing in all forms using water-based ink and hand painting.\n$7.00 fee payable to monitor at the time of each class.
URL:https://www.ocartistsguild.org/event/print-group-1200-430/2026-11-03/
LOCATION:Ocean County Artists Guild\, 22 Chestnut Avenue\, Island Heights\, NJ\, 08732\, United States
CATEGORIES:Classes,Events
END:VEVENT
BEGIN:VEVENT
DTSTART;TZID=America/New_York:20261110T123000
DTEND;TZID=America/New_York:20261110T160000
DTSTAMP:20260421T061453
CREATED:20250708T192017Z
LAST-MODIFIED:20250708T192017Z
UID:10004778-1794313800-1794326400@www.ocartistsguild.org
SUMMARY:Print Group 12:00 - 4:30
DESCRIPTION:Members Only: Print (weekly)\nDate: Tuesdays\, (dates subject to change. Contact Monitor)\nTime: 12:30 PM – 4PM; Duration: On Going\nMonitor: Leslie Ovechka\nTuesdays\, Materials provided at cost. Reduction printing in all forms using water-based ink and hand painting.\n$7.00 fee payable to monitor at the time of each class.
URL:https://www.ocartistsguild.org/event/print-group-1200-430/2026-11-10/
LOCATION:Ocean County Artists Guild\, 22 Chestnut Avenue\, Island Heights\, NJ\, 08732\, United States
CATEGORIES:Classes,Events
END:VEVENT
END:VCALENDAR