BEGIN:VCALENDAR
VERSION:2.0
PRODID:-//Ocean County Artists&#039; Guild - ECPv6.15.13//NONSGML v1.0//EN
CALSCALE:GREGORIAN
METHOD:PUBLISH
X-WR-CALNAME:Ocean County Artists&#039; Guild
X-ORIGINAL-URL:https://www.ocartistsguild.org
X-WR-CALDESC:Events for Ocean County Artists&#039; Guild
REFRESH-INTERVAL;VALUE=DURATION:PT1H
X-Robots-Tag:noindex
X-PUBLISHED-TTL:PT1H
BEGIN:VTIMEZONE
TZID:America/New_York
BEGIN:DAYLIGHT
TZOFFSETFROM:-0500
TZOFFSETTO:-0400
TZNAME:EDT
DTSTART:20250309T070000
END:DAYLIGHT
BEGIN:STANDARD
TZOFFSETFROM:-0400
TZOFFSETTO:-0500
TZNAME:EST
DTSTART:20251102T060000
END:STANDARD
BEGIN:DAYLIGHT
TZOFFSETFROM:-0500
TZOFFSETTO:-0400
TZNAME:EDT
DTSTART:20260308T070000
END:DAYLIGHT
BEGIN:STANDARD
TZOFFSETFROM:-0400
TZOFFSETTO:-0500
TZNAME:EST
DTSTART:20261101T060000
END:STANDARD
BEGIN:DAYLIGHT
TZOFFSETFROM:-0500
TZOFFSETTO:-0400
TZNAME:EDT
DTSTART:20270314T070000
END:DAYLIGHT
BEGIN:STANDARD
TZOFFSETFROM:-0400
TZOFFSETTO:-0500
TZNAME:EST
DTSTART:20271107T060000
END:STANDARD
END:VTIMEZONE
BEGIN:VEVENT
DTSTART;TZID=America/New_York:20260527T190000
DTEND;TZID=America/New_York:20260527T210000
DTSTAMP:20260423T051219
CREATED:20260121T210839Z
LAST-MODIFIED:20260121T210839Z
UID:10005768-1779908400-1779915600@www.ocartistsguild.org
SUMMARY:D.Y.O.T. Evening Edition
DESCRIPTION:Do Your Own Thing – Evening Edition \nWednesday \n7:00 – 9:00 \nBring your own supplies and snack \nMembers Only \n$10.00
URL:https://www.ocartistsguild.org/event/d-y-o-t-evening-edition/2026-05-27/
LOCATION:Ocean County Artists Guild\, 22 Chestnut Avenue\, Island Heights\, NJ\, 08732\, United States
CATEGORIES:Classes,Events
END:VEVENT
BEGIN:VEVENT
DTSTART;TZID=America/New_York:20260624T190000
DTEND;TZID=America/New_York:20260624T210000
DTSTAMP:20260423T051219
CREATED:20260121T210839Z
LAST-MODIFIED:20260121T210839Z
UID:10005769-1782327600-1782334800@www.ocartistsguild.org
SUMMARY:D.Y.O.T. Evening Edition
DESCRIPTION:Do Your Own Thing – Evening Edition \nWednesday \n7:00 – 9:00 \nBring your own supplies and snack \nMembers Only \n$10.00
URL:https://www.ocartistsguild.org/event/d-y-o-t-evening-edition/2026-06-24/
LOCATION:Ocean County Artists Guild\, 22 Chestnut Avenue\, Island Heights\, NJ\, 08732\, United States
CATEGORIES:Classes,Events
END:VEVENT
BEGIN:VEVENT
DTSTART;TZID=America/New_York:20260722T190000
DTEND;TZID=America/New_York:20260722T210000
DTSTAMP:20260423T051219
CREATED:20260121T210839Z
LAST-MODIFIED:20260121T210839Z
UID:10005770-1784746800-1784754000@www.ocartistsguild.org
SUMMARY:D.Y.O.T. Evening Edition
DESCRIPTION:Do Your Own Thing – Evening Edition \nWednesday \n7:00 – 9:00 \nBring your own supplies and snack \nMembers Only \n$10.00
URL:https://www.ocartistsguild.org/event/d-y-o-t-evening-edition/2026-07-22/
LOCATION:Ocean County Artists Guild\, 22 Chestnut Avenue\, Island Heights\, NJ\, 08732\, United States
CATEGORIES:Classes,Events
END:VEVENT
BEGIN:VEVENT
DTSTART;TZID=America/New_York:20260826T190000
DTEND;TZID=America/New_York:20260826T210000
DTSTAMP:20260423T051219
CREATED:20260121T210839Z
LAST-MODIFIED:20260121T210839Z
UID:10005771-1787770800-1787778000@www.ocartistsguild.org
SUMMARY:D.Y.O.T. Evening Edition
DESCRIPTION:Do Your Own Thing – Evening Edition \nWednesday \n7:00 – 9:00 \nBring your own supplies and snack \nMembers Only \n$10.00
URL:https://www.ocartistsguild.org/event/d-y-o-t-evening-edition/2026-08-26/
LOCATION:Ocean County Artists Guild\, 22 Chestnut Avenue\, Island Heights\, NJ\, 08732\, United States
CATEGORIES:Classes,Events
END:VEVENT
BEGIN:VEVENT
DTSTART;TZID=America/New_York:20260923T190000
DTEND;TZID=America/New_York:20260923T210000
DTSTAMP:20260423T051219
CREATED:20260121T210839Z
LAST-MODIFIED:20260121T210839Z
UID:10005772-1790190000-1790197200@www.ocartistsguild.org
SUMMARY:D.Y.O.T. Evening Edition
DESCRIPTION:Do Your Own Thing – Evening Edition \nWednesday \n7:00 – 9:00 \nBring your own supplies and snack \nMembers Only \n$10.00
URL:https://www.ocartistsguild.org/event/d-y-o-t-evening-edition/2026-09-23/
LOCATION:Ocean County Artists Guild\, 22 Chestnut Avenue\, Island Heights\, NJ\, 08732\, United States
CATEGORIES:Classes,Events
END:VEVENT
BEGIN:VEVENT
DTSTART;TZID=America/New_York:20261028T190000
DTEND;TZID=America/New_York:20261028T210000
DTSTAMP:20260423T051219
CREATED:20260121T210839Z
LAST-MODIFIED:20260121T210839Z
UID:10005773-1793214000-1793221200@www.ocartistsguild.org
SUMMARY:D.Y.O.T. Evening Edition
DESCRIPTION:Do Your Own Thing – Evening Edition \nWednesday \n7:00 – 9:00 \nBring your own supplies and snack \nMembers Only \n$10.00
URL:https://www.ocartistsguild.org/event/d-y-o-t-evening-edition/2026-10-28/
LOCATION:Ocean County Artists Guild\, 22 Chestnut Avenue\, Island Heights\, NJ\, 08732\, United States
CATEGORIES:Classes,Events
END:VEVENT
BEGIN:VEVENT
DTSTART;TZID=America/New_York:20261223T190000
DTEND;TZID=America/New_York:20261223T210000
DTSTAMP:20260423T051219
CREATED:20260121T210839Z
LAST-MODIFIED:20260121T210839Z
UID:10005774-1798052400-1798059600@www.ocartistsguild.org
SUMMARY:D.Y.O.T. Evening Edition
DESCRIPTION:Do Your Own Thing – Evening Edition \nWednesday \n7:00 – 9:00 \nBring your own supplies and snack \nMembers Only \n$10.00
URL:https://www.ocartistsguild.org/event/d-y-o-t-evening-edition/2026-12-23/
LOCATION:Ocean County Artists Guild\, 22 Chestnut Avenue\, Island Heights\, NJ\, 08732\, United States
CATEGORIES:Classes,Events
END:VEVENT
END:VCALENDAR