BEGIN:VCALENDAR
VERSION:2.0
PRODID:-//Ocean County Artists&#039; Guild - ECPv6.15.13//NONSGML v1.0//EN
CALSCALE:GREGORIAN
METHOD:PUBLISH
X-WR-CALNAME:Ocean County Artists&#039; Guild
X-ORIGINAL-URL:https://www.ocartistsguild.org
X-WR-CALDESC:Events for Ocean County Artists&#039; Guild
REFRESH-INTERVAL;VALUE=DURATION:PT1H
X-Robots-Tag:noindex
X-PUBLISHED-TTL:PT1H
BEGIN:VTIMEZONE
TZID:America/New_York
BEGIN:DAYLIGHT
TZOFFSETFROM:-0500
TZOFFSETTO:-0400
TZNAME:EDT
DTSTART:20250309T070000
END:DAYLIGHT
BEGIN:STANDARD
TZOFFSETFROM:-0400
TZOFFSETTO:-0500
TZNAME:EST
DTSTART:20251102T060000
END:STANDARD
BEGIN:DAYLIGHT
TZOFFSETFROM:-0500
TZOFFSETTO:-0400
TZNAME:EDT
DTSTART:20260308T070000
END:DAYLIGHT
BEGIN:STANDARD
TZOFFSETFROM:-0400
TZOFFSETTO:-0500
TZNAME:EST
DTSTART:20261101T060000
END:STANDARD
BEGIN:DAYLIGHT
TZOFFSETFROM:-0500
TZOFFSETTO:-0400
TZNAME:EDT
DTSTART:20270314T070000
END:DAYLIGHT
BEGIN:STANDARD
TZOFFSETFROM:-0400
TZOFFSETTO:-0500
TZNAME:EST
DTSTART:20271107T060000
END:STANDARD
END:VTIMEZONE
BEGIN:VEVENT
DTSTART;TZID=America/New_York:20260713T093000
DTEND;TZID=America/New_York:20260713T120000
DTSTAMP:20260424T073129
CREATED:20260311T161902Z
LAST-MODIFIED:20260311T161902Z
UID:10005864-1783935000-1783944000@www.ocartistsguild.org
SUMMARY:Summer Garden Series Watercolor with Leona Lavone
DESCRIPTION:Monday Morning Watercolor \nSummer Garden Series \nMembers 80.00/Non Members $100.00 \nCelebrate the beauty of summer gardens with watercolor! \nIn this relaxing four-week series we’ll paint a variety of vibrant garden flowers and summer blooms\, exploring loose watercolor techniques that bring petals\, color\, and light to life. \nEach week we’ll create a new garden-inspired painting\, learning how to paint soft petals\, layered colors\, and expressive backgrounds. This class is perfect for beginners as well as experienced painters who want to enjoy a creative summer morning. \nWeekly Subjects \nJuly 6 — Sunflowers July 13 — Hydrangeas July 20 — Wildflower Meadow July 27 — Coneflowers & Bees \nDates July 6\, 13\, 20\, 27 — 2026 \nTime 9:30 AM – 12 Noon \nCome relax\, paint\, and capture the joyful colors of summer gardens
URL:https://www.ocartistsguild.org/event/summer-garden-series-watercolor-with-leona-lavone-2/2026-07-13/
LOCATION:Ocean County Artists Guild\, 22 Chestnut Avenue\, Island Heights\, NJ\, 08732\, United States
CATEGORIES:Classes,Events
END:VEVENT
BEGIN:VEVENT
DTSTART;TZID=America/New_York:20260720T093000
DTEND;TZID=America/New_York:20260720T120000
DTSTAMP:20260424T073129
CREATED:20260311T161902Z
LAST-MODIFIED:20260311T161902Z
UID:10005865-1784539800-1784548800@www.ocartistsguild.org
SUMMARY:Summer Garden Series Watercolor with Leona Lavone
DESCRIPTION:Monday Morning Watercolor \nSummer Garden Series \nMembers 80.00/Non Members $100.00 \nCelebrate the beauty of summer gardens with watercolor! \nIn this relaxing four-week series we’ll paint a variety of vibrant garden flowers and summer blooms\, exploring loose watercolor techniques that bring petals\, color\, and light to life. \nEach week we’ll create a new garden-inspired painting\, learning how to paint soft petals\, layered colors\, and expressive backgrounds. This class is perfect for beginners as well as experienced painters who want to enjoy a creative summer morning. \nWeekly Subjects \nJuly 6 — Sunflowers July 13 — Hydrangeas July 20 — Wildflower Meadow July 27 — Coneflowers & Bees \nDates July 6\, 13\, 20\, 27 — 2026 \nTime 9:30 AM – 12 Noon \nCome relax\, paint\, and capture the joyful colors of summer gardens
URL:https://www.ocartistsguild.org/event/summer-garden-series-watercolor-with-leona-lavone-2/2026-07-20/
LOCATION:Ocean County Artists Guild\, 22 Chestnut Avenue\, Island Heights\, NJ\, 08732\, United States
CATEGORIES:Classes,Events
END:VEVENT
BEGIN:VEVENT
DTSTART;TZID=America/New_York:20260727T093000
DTEND;TZID=America/New_York:20260727T120000
DTSTAMP:20260424T073129
CREATED:20260311T161902Z
LAST-MODIFIED:20260311T161902Z
UID:10005866-1785144600-1785153600@www.ocartistsguild.org
SUMMARY:Summer Garden Series Watercolor with Leona Lavone
DESCRIPTION:Monday Morning Watercolor \nSummer Garden Series \nMembers 80.00/Non Members $100.00 \nCelebrate the beauty of summer gardens with watercolor! \nIn this relaxing four-week series we’ll paint a variety of vibrant garden flowers and summer blooms\, exploring loose watercolor techniques that bring petals\, color\, and light to life. \nEach week we’ll create a new garden-inspired painting\, learning how to paint soft petals\, layered colors\, and expressive backgrounds. This class is perfect for beginners as well as experienced painters who want to enjoy a creative summer morning. \nWeekly Subjects \nJuly 6 — Sunflowers July 13 — Hydrangeas July 20 — Wildflower Meadow July 27 — Coneflowers & Bees \nDates July 6\, 13\, 20\, 27 — 2026 \nTime 9:30 AM – 12 Noon \nCome relax\, paint\, and capture the joyful colors of summer gardens
URL:https://www.ocartistsguild.org/event/summer-garden-series-watercolor-with-leona-lavone-2/2026-07-27/
LOCATION:Ocean County Artists Guild\, 22 Chestnut Avenue\, Island Heights\, NJ\, 08732\, United States
CATEGORIES:Classes,Events
END:VEVENT
END:VCALENDAR