BEGIN:VCALENDAR
VERSION:2.0
PRODID:-//Ocean County Artists&#039; Guild - ECPv6.15.13//NONSGML v1.0//EN
CALSCALE:GREGORIAN
METHOD:PUBLISH
X-WR-CALNAME:Ocean County Artists&#039; Guild
X-ORIGINAL-URL:https://www.ocartistsguild.org
X-WR-CALDESC:Events for Ocean County Artists&#039; Guild
REFRESH-INTERVAL;VALUE=DURATION:PT1H
X-Robots-Tag:noindex
X-PUBLISHED-TTL:PT1H
BEGIN:VTIMEZONE
TZID:America/New_York
BEGIN:DAYLIGHT
TZOFFSETFROM:-0500
TZOFFSETTO:-0400
TZNAME:EDT
DTSTART:20250309T070000
END:DAYLIGHT
BEGIN:STANDARD
TZOFFSETFROM:-0400
TZOFFSETTO:-0500
TZNAME:EST
DTSTART:20251102T060000
END:STANDARD
BEGIN:DAYLIGHT
TZOFFSETFROM:-0500
TZOFFSETTO:-0400
TZNAME:EDT
DTSTART:20260308T070000
END:DAYLIGHT
BEGIN:STANDARD
TZOFFSETFROM:-0400
TZOFFSETTO:-0500
TZNAME:EST
DTSTART:20261101T060000
END:STANDARD
BEGIN:DAYLIGHT
TZOFFSETFROM:-0500
TZOFFSETTO:-0400
TZNAME:EDT
DTSTART:20270314T070000
END:DAYLIGHT
BEGIN:STANDARD
TZOFFSETFROM:-0400
TZOFFSETTO:-0500
TZNAME:EST
DTSTART:20271107T060000
END:STANDARD
END:VTIMEZONE
BEGIN:VEVENT
DTSTART;TZID=America/New_York:20260511T093000
DTEND;TZID=America/New_York:20260511T120000
DTSTAMP:20260421T073546
CREATED:20260313T181332Z
LAST-MODIFIED:20260313T181332Z
UID:10005884-1778491800-1778500800@www.ocartistsguild.org
SUMMARY:Sailboats by the Sea Watercolor with Leona Lavone
DESCRIPTION:Monday Morning Watercolor – Sailboats by the Sea \nMay 4th\, 11th\, 18th & June 1st \n9:30 AM – 12:00 PM \n$80.00 for members/$100 for non-members \nLet your creativity drift out to sea this May!  Join us for four relaxing Monday mornings of watercolor painting inspired by graceful sailboats and coastal skies. \nEach week we will paint a brand-new sailboat scene\, exploring techniques for shimmering water\, breezy sails\, soft skies\, and reflections.  These classes are perfect for beginners as well as experienced painters who simply want to enjoy a peaceful morning creating art. \nCome paint\, relax\, and enjoy a little seaside inspiration. \nLeona Lavone – Artsy Art Bucket
URL:https://www.ocartistsguild.org/event/sailboats-by-the-sea-watercolor-with-leona-lavone-2/2026-05-11/
LOCATION:Ocean County Artists Guild\, 22 Chestnut Avenue\, Island Heights\, NJ\, 08732\, United States
CATEGORIES:Classes,Events
END:VEVENT
BEGIN:VEVENT
DTSTART;TZID=America/New_York:20260518T093000
DTEND;TZID=America/New_York:20260518T120000
DTSTAMP:20260421T073546
CREATED:20260313T181332Z
LAST-MODIFIED:20260313T181332Z
UID:10005885-1779096600-1779105600@www.ocartistsguild.org
SUMMARY:Sailboats by the Sea Watercolor with Leona Lavone
DESCRIPTION:Monday Morning Watercolor – Sailboats by the Sea \nMay 4th\, 11th\, 18th & June 1st \n9:30 AM – 12:00 PM \n$80.00 for members/$100 for non-members \nLet your creativity drift out to sea this May!  Join us for four relaxing Monday mornings of watercolor painting inspired by graceful sailboats and coastal skies. \nEach week we will paint a brand-new sailboat scene\, exploring techniques for shimmering water\, breezy sails\, soft skies\, and reflections.  These classes are perfect for beginners as well as experienced painters who simply want to enjoy a peaceful morning creating art. \nCome paint\, relax\, and enjoy a little seaside inspiration. \nLeona Lavone – Artsy Art Bucket
URL:https://www.ocartistsguild.org/event/sailboats-by-the-sea-watercolor-with-leona-lavone-2/2026-05-18/
LOCATION:Ocean County Artists Guild\, 22 Chestnut Avenue\, Island Heights\, NJ\, 08732\, United States
CATEGORIES:Classes,Events
END:VEVENT
BEGIN:VEVENT
DTSTART;TZID=America/New_York:20260601T093000
DTEND;TZID=America/New_York:20260601T120000
DTSTAMP:20260421T073546
CREATED:20260313T181332Z
LAST-MODIFIED:20260313T181332Z
UID:10005886-1780306200-1780315200@www.ocartistsguild.org
SUMMARY:Sailboats by the Sea Watercolor with Leona Lavone
DESCRIPTION:Monday Morning Watercolor – Sailboats by the Sea \nMay 4th\, 11th\, 18th & June 1st \n9:30 AM – 12:00 PM \n$80.00 for members/$100 for non-members \nLet your creativity drift out to sea this May!  Join us for four relaxing Monday mornings of watercolor painting inspired by graceful sailboats and coastal skies. \nEach week we will paint a brand-new sailboat scene\, exploring techniques for shimmering water\, breezy sails\, soft skies\, and reflections.  These classes are perfect for beginners as well as experienced painters who simply want to enjoy a peaceful morning creating art. \nCome paint\, relax\, and enjoy a little seaside inspiration. \nLeona Lavone – Artsy Art Bucket
URL:https://www.ocartistsguild.org/event/sailboats-by-the-sea-watercolor-with-leona-lavone-2/2026-06-01/
LOCATION:Ocean County Artists Guild\, 22 Chestnut Avenue\, Island Heights\, NJ\, 08732\, United States
CATEGORIES:Classes,Events
END:VEVENT
END:VCALENDAR