BEGIN:VCALENDAR
VERSION:2.0
PRODID:-//Ocean County Artists&#039; Guild - ECPv6.15.13//NONSGML v1.0//EN
CALSCALE:GREGORIAN
METHOD:PUBLISH
X-WR-CALNAME:Ocean County Artists&#039; Guild
X-ORIGINAL-URL:https://www.ocartistsguild.org
X-WR-CALDESC:Events for Ocean County Artists&#039; Guild
REFRESH-INTERVAL;VALUE=DURATION:PT1H
X-Robots-Tag:noindex
X-PUBLISHED-TTL:PT1H
BEGIN:VTIMEZONE
TZID:America/New_York
BEGIN:DAYLIGHT
TZOFFSETFROM:-0500
TZOFFSETTO:-0400
TZNAME:EDT
DTSTART:20250309T070000
END:DAYLIGHT
BEGIN:STANDARD
TZOFFSETFROM:-0400
TZOFFSETTO:-0500
TZNAME:EST
DTSTART:20251102T060000
END:STANDARD
BEGIN:DAYLIGHT
TZOFFSETFROM:-0500
TZOFFSETTO:-0400
TZNAME:EDT
DTSTART:20260308T070000
END:DAYLIGHT
BEGIN:STANDARD
TZOFFSETFROM:-0400
TZOFFSETTO:-0500
TZNAME:EST
DTSTART:20261101T060000
END:STANDARD
BEGIN:DAYLIGHT
TZOFFSETFROM:-0500
TZOFFSETTO:-0400
TZNAME:EDT
DTSTART:20270314T070000
END:DAYLIGHT
BEGIN:STANDARD
TZOFFSETFROM:-0400
TZOFFSETTO:-0500
TZNAME:EST
DTSTART:20271107T060000
END:STANDARD
END:VTIMEZONE
BEGIN:VEVENT
DTSTART;TZID=America/New_York:20261021T153000
DTEND;TZID=America/New_York:20261021T173000
DTSTAMP:20260424T112001
CREATED:20260413T180109Z
LAST-MODIFIED:20260413T180109Z
UID:10006081-1792596600-1792603800@www.ocartistsguild.org
SUMMARY:D.Y.O.T. with Instruction with Carol Colvin
DESCRIPTION:D.Y.O.T. with Instruction with Carol Colvin \nOctober 14\, 21\, 28\, November 4\, 11\, 18\, 25\, December 2 \n3:30 PM – 5:30 PM.   \nMembers:  $160 \nNon-members:  $200 \nHello members\, \nMy new class is starting\, and I will continue to set up a still-life\, and instruct students with their own projects\, but . . .Ever get frustrated with a watercolor you just can’t get right?  Been there\, done that.  Some time ago I did a portrait of a niece in watercolor.  Loved the tilt of her head and the flowers in her hair (she was a bridesmaid I think); but at that time I could not achieve the softness of her face in paint.  So\, I went over the entire work with pastels\, which are soft and blend beautifully.  Join me in class\, beginning April 1\, 3:30 – 5:30\, for 8 weeks.  $160 members\, $200 for non-members.  I will supply the pastels.  Doesn’t have to be a portrait that you want to enhance\, could be landscape\, still-life or abstract.  So much fun to get messy with your materials. \nHere is Sarah:
URL:https://www.ocartistsguild.org/event/d-y-o-t-with-instruction-with-carol-colvin-5/2026-10-21/
LOCATION:Ocean County Artists Guild\, 22 Chestnut Avenue\, Island Heights\, NJ\, 08732\, United States
CATEGORIES:Classes,Events
END:VEVENT
BEGIN:VEVENT
DTSTART;TZID=America/New_York:20261028T153000
DTEND;TZID=America/New_York:20261028T173000
DTSTAMP:20260424T112001
CREATED:20260413T180109Z
LAST-MODIFIED:20260413T180109Z
UID:10006082-1793201400-1793208600@www.ocartistsguild.org
SUMMARY:D.Y.O.T. with Instruction with Carol Colvin
DESCRIPTION:D.Y.O.T. with Instruction with Carol Colvin \nOctober 14\, 21\, 28\, November 4\, 11\, 18\, 25\, December 2 \n3:30 PM – 5:30 PM.   \nMembers:  $160 \nNon-members:  $200 \nHello members\, \nMy new class is starting\, and I will continue to set up a still-life\, and instruct students with their own projects\, but . . .Ever get frustrated with a watercolor you just can’t get right?  Been there\, done that.  Some time ago I did a portrait of a niece in watercolor.  Loved the tilt of her head and the flowers in her hair (she was a bridesmaid I think); but at that time I could not achieve the softness of her face in paint.  So\, I went over the entire work with pastels\, which are soft and blend beautifully.  Join me in class\, beginning April 1\, 3:30 – 5:30\, for 8 weeks.  $160 members\, $200 for non-members.  I will supply the pastels.  Doesn’t have to be a portrait that you want to enhance\, could be landscape\, still-life or abstract.  So much fun to get messy with your materials. \nHere is Sarah:
URL:https://www.ocartistsguild.org/event/d-y-o-t-with-instruction-with-carol-colvin-5/2026-10-28/
LOCATION:Ocean County Artists Guild\, 22 Chestnut Avenue\, Island Heights\, NJ\, 08732\, United States
CATEGORIES:Classes,Events
END:VEVENT
BEGIN:VEVENT
DTSTART;TZID=America/New_York:20261104T153000
DTEND;TZID=America/New_York:20261104T173000
DTSTAMP:20260424T112001
CREATED:20260413T180109Z
LAST-MODIFIED:20260413T180109Z
UID:10006083-1793806200-1793813400@www.ocartistsguild.org
SUMMARY:D.Y.O.T. with Instruction with Carol Colvin
DESCRIPTION:D.Y.O.T. with Instruction with Carol Colvin \nOctober 14\, 21\, 28\, November 4\, 11\, 18\, 25\, December 2 \n3:30 PM – 5:30 PM.   \nMembers:  $160 \nNon-members:  $200 \nHello members\, \nMy new class is starting\, and I will continue to set up a still-life\, and instruct students with their own projects\, but . . .Ever get frustrated with a watercolor you just can’t get right?  Been there\, done that.  Some time ago I did a portrait of a niece in watercolor.  Loved the tilt of her head and the flowers in her hair (she was a bridesmaid I think); but at that time I could not achieve the softness of her face in paint.  So\, I went over the entire work with pastels\, which are soft and blend beautifully.  Join me in class\, beginning April 1\, 3:30 – 5:30\, for 8 weeks.  $160 members\, $200 for non-members.  I will supply the pastels.  Doesn’t have to be a portrait that you want to enhance\, could be landscape\, still-life or abstract.  So much fun to get messy with your materials. \nHere is Sarah:
URL:https://www.ocartistsguild.org/event/d-y-o-t-with-instruction-with-carol-colvin-5/2026-11-04/
LOCATION:Ocean County Artists Guild\, 22 Chestnut Avenue\, Island Heights\, NJ\, 08732\, United States
CATEGORIES:Classes,Events
END:VEVENT
BEGIN:VEVENT
DTSTART;TZID=America/New_York:20261111T153000
DTEND;TZID=America/New_York:20261111T173000
DTSTAMP:20260424T112001
CREATED:20260413T180109Z
LAST-MODIFIED:20260413T180109Z
UID:10006084-1794411000-1794418200@www.ocartistsguild.org
SUMMARY:D.Y.O.T. with Instruction with Carol Colvin
DESCRIPTION:D.Y.O.T. with Instruction with Carol Colvin \nOctober 14\, 21\, 28\, November 4\, 11\, 18\, 25\, December 2 \n3:30 PM – 5:30 PM.   \nMembers:  $160 \nNon-members:  $200 \nHello members\, \nMy new class is starting\, and I will continue to set up a still-life\, and instruct students with their own projects\, but . . .Ever get frustrated with a watercolor you just can’t get right?  Been there\, done that.  Some time ago I did a portrait of a niece in watercolor.  Loved the tilt of her head and the flowers in her hair (she was a bridesmaid I think); but at that time I could not achieve the softness of her face in paint.  So\, I went over the entire work with pastels\, which are soft and blend beautifully.  Join me in class\, beginning April 1\, 3:30 – 5:30\, for 8 weeks.  $160 members\, $200 for non-members.  I will supply the pastels.  Doesn’t have to be a portrait that you want to enhance\, could be landscape\, still-life or abstract.  So much fun to get messy with your materials. \nHere is Sarah:
URL:https://www.ocartistsguild.org/event/d-y-o-t-with-instruction-with-carol-colvin-5/2026-11-11/
LOCATION:Ocean County Artists Guild\, 22 Chestnut Avenue\, Island Heights\, NJ\, 08732\, United States
CATEGORIES:Classes,Events
END:VEVENT
BEGIN:VEVENT
DTSTART;TZID=America/New_York:20261118T153000
DTEND;TZID=America/New_York:20261118T173000
DTSTAMP:20260424T112001
CREATED:20260413T180109Z
LAST-MODIFIED:20260413T180109Z
UID:10006085-1795015800-1795023000@www.ocartistsguild.org
SUMMARY:D.Y.O.T. with Instruction with Carol Colvin
DESCRIPTION:D.Y.O.T. with Instruction with Carol Colvin \nOctober 14\, 21\, 28\, November 4\, 11\, 18\, 25\, December 2 \n3:30 PM – 5:30 PM.   \nMembers:  $160 \nNon-members:  $200 \nHello members\, \nMy new class is starting\, and I will continue to set up a still-life\, and instruct students with their own projects\, but . . .Ever get frustrated with a watercolor you just can’t get right?  Been there\, done that.  Some time ago I did a portrait of a niece in watercolor.  Loved the tilt of her head and the flowers in her hair (she was a bridesmaid I think); but at that time I could not achieve the softness of her face in paint.  So\, I went over the entire work with pastels\, which are soft and blend beautifully.  Join me in class\, beginning April 1\, 3:30 – 5:30\, for 8 weeks.  $160 members\, $200 for non-members.  I will supply the pastels.  Doesn’t have to be a portrait that you want to enhance\, could be landscape\, still-life or abstract.  So much fun to get messy with your materials. \nHere is Sarah:
URL:https://www.ocartistsguild.org/event/d-y-o-t-with-instruction-with-carol-colvin-5/2026-11-18/
LOCATION:Ocean County Artists Guild\, 22 Chestnut Avenue\, Island Heights\, NJ\, 08732\, United States
CATEGORIES:Classes,Events
END:VEVENT
BEGIN:VEVENT
DTSTART;TZID=America/New_York:20261125T153000
DTEND;TZID=America/New_York:20261125T173000
DTSTAMP:20260424T112001
CREATED:20260413T180109Z
LAST-MODIFIED:20260413T180109Z
UID:10006086-1795620600-1795627800@www.ocartistsguild.org
SUMMARY:D.Y.O.T. with Instruction with Carol Colvin
DESCRIPTION:D.Y.O.T. with Instruction with Carol Colvin \nOctober 14\, 21\, 28\, November 4\, 11\, 18\, 25\, December 2 \n3:30 PM – 5:30 PM.   \nMembers:  $160 \nNon-members:  $200 \nHello members\, \nMy new class is starting\, and I will continue to set up a still-life\, and instruct students with their own projects\, but . . .Ever get frustrated with a watercolor you just can’t get right?  Been there\, done that.  Some time ago I did a portrait of a niece in watercolor.  Loved the tilt of her head and the flowers in her hair (she was a bridesmaid I think); but at that time I could not achieve the softness of her face in paint.  So\, I went over the entire work with pastels\, which are soft and blend beautifully.  Join me in class\, beginning April 1\, 3:30 – 5:30\, for 8 weeks.  $160 members\, $200 for non-members.  I will supply the pastels.  Doesn’t have to be a portrait that you want to enhance\, could be landscape\, still-life or abstract.  So much fun to get messy with your materials. \nHere is Sarah:
URL:https://www.ocartistsguild.org/event/d-y-o-t-with-instruction-with-carol-colvin-5/2026-11-25/
LOCATION:Ocean County Artists Guild\, 22 Chestnut Avenue\, Island Heights\, NJ\, 08732\, United States
CATEGORIES:Classes,Events
END:VEVENT
BEGIN:VEVENT
DTSTART;TZID=America/New_York:20261202T153000
DTEND;TZID=America/New_York:20261202T173000
DTSTAMP:20260424T112001
CREATED:20260413T180109Z
LAST-MODIFIED:20260413T180109Z
UID:10006087-1796225400-1796232600@www.ocartistsguild.org
SUMMARY:D.Y.O.T. with Instruction with Carol Colvin
DESCRIPTION:D.Y.O.T. with Instruction with Carol Colvin \nOctober 14\, 21\, 28\, November 4\, 11\, 18\, 25\, December 2 \n3:30 PM – 5:30 PM.   \nMembers:  $160 \nNon-members:  $200 \nHello members\, \nMy new class is starting\, and I will continue to set up a still-life\, and instruct students with their own projects\, but . . .Ever get frustrated with a watercolor you just can’t get right?  Been there\, done that.  Some time ago I did a portrait of a niece in watercolor.  Loved the tilt of her head and the flowers in her hair (she was a bridesmaid I think); but at that time I could not achieve the softness of her face in paint.  So\, I went over the entire work with pastels\, which are soft and blend beautifully.  Join me in class\, beginning April 1\, 3:30 – 5:30\, for 8 weeks.  $160 members\, $200 for non-members.  I will supply the pastels.  Doesn’t have to be a portrait that you want to enhance\, could be landscape\, still-life or abstract.  So much fun to get messy with your materials. \nHere is Sarah:
URL:https://www.ocartistsguild.org/event/d-y-o-t-with-instruction-with-carol-colvin-5/2026-12-02/
LOCATION:Ocean County Artists Guild\, 22 Chestnut Avenue\, Island Heights\, NJ\, 08732\, United States
CATEGORIES:Classes,Events
END:VEVENT
END:VCALENDAR