BEGIN:VCALENDAR
VERSION:2.0
PRODID:-//Ocean County Artists&#039; Guild - ECPv6.15.13//NONSGML v1.0//EN
CALSCALE:GREGORIAN
METHOD:PUBLISH
X-WR-CALNAME:Ocean County Artists&#039; Guild
X-ORIGINAL-URL:https://www.ocartistsguild.org
X-WR-CALDESC:Events for Ocean County Artists&#039; Guild
REFRESH-INTERVAL;VALUE=DURATION:PT1H
X-Robots-Tag:noindex
X-PUBLISHED-TTL:PT1H
BEGIN:VTIMEZONE
TZID:America/New_York
BEGIN:DAYLIGHT
TZOFFSETFROM:-0500
TZOFFSETTO:-0400
TZNAME:EDT
DTSTART:20240310T070000
END:DAYLIGHT
BEGIN:STANDARD
TZOFFSETFROM:-0400
TZOFFSETTO:-0500
TZNAME:EST
DTSTART:20241103T060000
END:STANDARD
BEGIN:DAYLIGHT
TZOFFSETFROM:-0500
TZOFFSETTO:-0400
TZNAME:EDT
DTSTART:20250309T070000
END:DAYLIGHT
BEGIN:STANDARD
TZOFFSETFROM:-0400
TZOFFSETTO:-0500
TZNAME:EST
DTSTART:20251102T060000
END:STANDARD
BEGIN:DAYLIGHT
TZOFFSETFROM:-0500
TZOFFSETTO:-0400
TZNAME:EDT
DTSTART:20260308T070000
END:DAYLIGHT
BEGIN:STANDARD
TZOFFSETFROM:-0400
TZOFFSETTO:-0500
TZNAME:EST
DTSTART:20261101T060000
END:STANDARD
BEGIN:DAYLIGHT
TZOFFSETFROM:-0500
TZOFFSETTO:-0400
TZNAME:EDT
DTSTART:20270314T070000
END:DAYLIGHT
BEGIN:STANDARD
TZOFFSETFROM:-0400
TZOFFSETTO:-0500
TZNAME:EST
DTSTART:20271107T060000
END:STANDARD
END:VTIMEZONE
BEGIN:VEVENT
DTSTART;TZID=America/New_York:20251230T083000
DTEND;TZID=America/New_York:20251230T093000
DTSTAMP:20260424T075211
CREATED:20250708T175705Z
LAST-MODIFIED:20250922T152231Z
UID:10004471-1767083400-1767087000@www.ocartistsguild.org
SUMMARY:Yoga
DESCRIPTION:Yoga at the Guild!  \n$40 for members for the month or $10/session.  \n$60 for non members for the month or $15/session.
URL:https://www.ocartistsguild.org/event/yoga-7-15/2025-12-30/
LOCATION:Ocean County Artists Guild\, 22 Chestnut Avenue\, Island Heights\, NJ\, 08732\, United States
CATEGORIES:Classes,Events
END:VEVENT
BEGIN:VEVENT
DTSTART;TZID=America/New_York:20251230T123000
DTEND;TZID=America/New_York:20251230T160000
DTSTAMP:20260424T075211
CREATED:20250708T192017Z
LAST-MODIFIED:20250708T192017Z
UID:10004733-1767097800-1767110400@www.ocartistsguild.org
SUMMARY:Print Group 12:00 - 4:30
DESCRIPTION:Members Only: Print (weekly)\nDate: Tuesdays\, (dates subject to change. Contact Monitor)\nTime: 12:30 PM – 4PM; Duration: On Going\nMonitor: Leslie Ovechka\nTuesdays\, Materials provided at cost. Reduction printing in all forms using water-based ink and hand painting.\n$7.00 fee payable to monitor at the time of each class.
URL:https://www.ocartistsguild.org/event/print-group-1200-430/2025-12-30/
LOCATION:Ocean County Artists Guild\, 22 Chestnut Avenue\, Island Heights\, NJ\, 08732\, United States
CATEGORIES:Classes,Events
END:VEVENT
BEGIN:VEVENT
DTSTART;TZID=America/New_York:20260102T083000
DTEND;TZID=America/New_York:20260102T093000
DTSTAMP:20260424T075211
CREATED:20251126T181050Z
LAST-MODIFIED:20251126T181050Z
UID:10005701-1767342600-1767346200@www.ocartistsguild.org
SUMMARY:Yoga Friday's
DESCRIPTION:Yoga Friday’s!  \n$10 for members per session \n$15 for non members per session
URL:https://www.ocartistsguild.org/event/yoga-fridays-4/
LOCATION:Ocean County Artists Guild\, 22 Chestnut Avenue\, Island Heights\, NJ\, 08732\, United States
CATEGORIES:Classes,Events
END:VEVENT
BEGIN:VEVENT
DTSTART;TZID=America/New_York:20260103T100000
DTEND;TZID=America/New_York:20260103T120000
DTSTAMP:20260424T075211
CREATED:20250915T151616Z
LAST-MODIFIED:20250915T151616Z
UID:10005431-1767434400-1767441600@www.ocartistsguild.org
SUMMARY:Saturday Morning Figure Drawing Short Pose
DESCRIPTION:OCAG Saturday Morning Short Pose \nUndraped Figure Drawing Session \n10:00 AM – 12:00 PM \n$20 for members \n$25 for non members \nAdults 18 and up are welcome
URL:https://www.ocartistsguild.org/event/saturday-morning-figure-drawing-short-pose/
LOCATION:Ocean County Artists Guild\, 22 Chestnut Avenue\, Island Heights\, NJ\, 08732\, United States
CATEGORIES:Classes,Events
END:VEVENT
END:VCALENDAR